BEGIN:VCALENDAR
VERSION:2.0
PRODID:-//The National Sanctuary of Our Sorrowful Mother, The Grotto - ECPv6.15.17.1//NONSGML v1.0//EN
CALSCALE:GREGORIAN
METHOD:PUBLISH
X-ORIGINAL-URL:https://thegrotto.org
X-WR-CALDESC:Events for The National Sanctuary of Our Sorrowful Mother, The Grotto
REFRESH-INTERVAL;VALUE=DURATION:PT1H
X-Robots-Tag:noindex
X-PUBLISHED-TTL:PT1H
BEGIN:VTIMEZONE
TZID:America/Los_Angeles
BEGIN:DAYLIGHT
TZOFFSETFROM:-0800
TZOFFSETTO:-0700
TZNAME:PDT
DTSTART:20260308T100000
END:DAYLIGHT
BEGIN:STANDARD
TZOFFSETFROM:-0700
TZOFFSETTO:-0800
TZNAME:PST
DTSTART:20261101T090000
END:STANDARD
BEGIN:DAYLIGHT
TZOFFSETFROM:-0800
TZOFFSETTO:-0700
TZNAME:PDT
DTSTART:20270314T100000
END:DAYLIGHT
BEGIN:STANDARD
TZOFFSETFROM:-0700
TZOFFSETTO:-0800
TZNAME:PST
DTSTART:20271107T090000
END:STANDARD
BEGIN:DAYLIGHT
TZOFFSETFROM:-0800
TZOFFSETTO:-0700
TZNAME:PDT
DTSTART:20280312T100000
END:DAYLIGHT
BEGIN:STANDARD
TZOFFSETFROM:-0700
TZOFFSETTO:-0800
TZNAME:PST
DTSTART:20281105T090000
END:STANDARD
END:VTIMEZONE
BEGIN:VEVENT
DTSTART;TZID=America/Los_Angeles:20271007T120000
DTEND;TZID=America/Los_Angeles:20271007T123000
DTSTAMP:20260422T111956
CREATED:20251015T191031Z
LAST-MODIFIED:20251015T191031Z
UID:10000523-1822910400-1822912200@thegrotto.org
SUMMARY:Daily Mass
DESCRIPTION:Daily Mass is celebrated at 12 noon Monday – Saturday in the Chapel of Mary. Daily recitation of the Rosary takes place everyday\, one half hour before each Mass. On Fridays\, we pray the Rosary of the Seven Sorrows of Mary (Servite Rosary).
URL:https://thegrotto.org/event/daily-mass/2027-10-07/
LOCATION:Chapel of Mary\, 8840 NE Skidmore St\, Portland\, OR\, 97220
CATEGORIES:Daily Mass
END:VEVENT
BEGIN:VEVENT
DTSTART;TZID=America/Los_Angeles:20271008T120000
DTEND;TZID=America/Los_Angeles:20271008T123000
DTSTAMP:20260422T111956
CREATED:20251015T191031Z
LAST-MODIFIED:20251015T191031Z
UID:10000524-1822996800-1822998600@thegrotto.org
SUMMARY:Daily Mass
DESCRIPTION:Daily Mass is celebrated at 12 noon Monday – Saturday in the Chapel of Mary. Daily recitation of the Rosary takes place everyday\, one half hour before each Mass. On Fridays\, we pray the Rosary of the Seven Sorrows of Mary (Servite Rosary).
URL:https://thegrotto.org/event/daily-mass/2027-10-08/
LOCATION:Chapel of Mary\, 8840 NE Skidmore St\, Portland\, OR\, 97220
CATEGORIES:Daily Mass
END:VEVENT
BEGIN:VEVENT
DTSTART;TZID=America/Los_Angeles:20271011T120000
DTEND;TZID=America/Los_Angeles:20271011T123000
DTSTAMP:20260422T111956
CREATED:20251015T191031Z
LAST-MODIFIED:20251015T191031Z
UID:10000525-1823256000-1823257800@thegrotto.org
SUMMARY:Daily Mass
DESCRIPTION:Daily Mass is celebrated at 12 noon Monday – Saturday in the Chapel of Mary. Daily recitation of the Rosary takes place everyday\, one half hour before each Mass. On Fridays\, we pray the Rosary of the Seven Sorrows of Mary (Servite Rosary).
URL:https://thegrotto.org/event/daily-mass/2027-10-11/
LOCATION:Chapel of Mary\, 8840 NE Skidmore St\, Portland\, OR\, 97220
CATEGORIES:Daily Mass
END:VEVENT
BEGIN:VEVENT
DTSTART;TZID=America/Los_Angeles:20271012T120000
DTEND;TZID=America/Los_Angeles:20271012T123000
DTSTAMP:20260422T111956
CREATED:20251015T191031Z
LAST-MODIFIED:20251015T191031Z
UID:10000526-1823342400-1823344200@thegrotto.org
SUMMARY:Daily Mass
DESCRIPTION:Daily Mass is celebrated at 12 noon Monday – Saturday in the Chapel of Mary. Daily recitation of the Rosary takes place everyday\, one half hour before each Mass. On Fridays\, we pray the Rosary of the Seven Sorrows of Mary (Servite Rosary).
URL:https://thegrotto.org/event/daily-mass/2027-10-12/
LOCATION:Chapel of Mary\, 8840 NE Skidmore St\, Portland\, OR\, 97220
CATEGORIES:Daily Mass
END:VEVENT
BEGIN:VEVENT
DTSTART;TZID=America/Los_Angeles:20271013T120000
DTEND;TZID=America/Los_Angeles:20271013T123000
DTSTAMP:20260422T111956
CREATED:20251015T191031Z
LAST-MODIFIED:20251015T191031Z
UID:10000527-1823428800-1823430600@thegrotto.org
SUMMARY:Daily Mass
DESCRIPTION:Daily Mass is celebrated at 12 noon Monday – Saturday in the Chapel of Mary. Daily recitation of the Rosary takes place everyday\, one half hour before each Mass. On Fridays\, we pray the Rosary of the Seven Sorrows of Mary (Servite Rosary).
URL:https://thegrotto.org/event/daily-mass/2027-10-13/
LOCATION:Chapel of Mary\, 8840 NE Skidmore St\, Portland\, OR\, 97220
CATEGORIES:Daily Mass
END:VEVENT
BEGIN:VEVENT
DTSTART;TZID=America/Los_Angeles:20271014T120000
DTEND;TZID=America/Los_Angeles:20271014T123000
DTSTAMP:20260422T111956
CREATED:20251015T191031Z
LAST-MODIFIED:20251015T191031Z
UID:10000528-1823515200-1823517000@thegrotto.org
SUMMARY:Daily Mass
DESCRIPTION:Daily Mass is celebrated at 12 noon Monday – Saturday in the Chapel of Mary. Daily recitation of the Rosary takes place everyday\, one half hour before each Mass. On Fridays\, we pray the Rosary of the Seven Sorrows of Mary (Servite Rosary).
URL:https://thegrotto.org/event/daily-mass/2027-10-14/
LOCATION:Chapel of Mary\, 8840 NE Skidmore St\, Portland\, OR\, 97220
CATEGORIES:Daily Mass
END:VEVENT
BEGIN:VEVENT
DTSTART;TZID=America/Los_Angeles:20271015T120000
DTEND;TZID=America/Los_Angeles:20271015T123000
DTSTAMP:20260422T111956
CREATED:20251015T191031Z
LAST-MODIFIED:20251015T191031Z
UID:10000529-1823601600-1823603400@thegrotto.org
SUMMARY:Daily Mass
DESCRIPTION:Daily Mass is celebrated at 12 noon Monday – Saturday in the Chapel of Mary. Daily recitation of the Rosary takes place everyday\, one half hour before each Mass. On Fridays\, we pray the Rosary of the Seven Sorrows of Mary (Servite Rosary).
URL:https://thegrotto.org/event/daily-mass/2027-10-15/
LOCATION:Chapel of Mary\, 8840 NE Skidmore St\, Portland\, OR\, 97220
CATEGORIES:Daily Mass
END:VEVENT
BEGIN:VEVENT
DTSTART;TZID=America/Los_Angeles:20271018T120000
DTEND;TZID=America/Los_Angeles:20271018T123000
DTSTAMP:20260422T111956
CREATED:20251015T191031Z
LAST-MODIFIED:20251015T191031Z
UID:10000530-1823860800-1823862600@thegrotto.org
SUMMARY:Daily Mass
DESCRIPTION:Daily Mass is celebrated at 12 noon Monday – Saturday in the Chapel of Mary. Daily recitation of the Rosary takes place everyday\, one half hour before each Mass. On Fridays\, we pray the Rosary of the Seven Sorrows of Mary (Servite Rosary).
URL:https://thegrotto.org/event/daily-mass/2027-10-18/
LOCATION:Chapel of Mary\, 8840 NE Skidmore St\, Portland\, OR\, 97220
CATEGORIES:Daily Mass
END:VEVENT
BEGIN:VEVENT
DTSTART;TZID=America/Los_Angeles:20271019T120000
DTEND;TZID=America/Los_Angeles:20271019T123000
DTSTAMP:20260422T111956
CREATED:20251015T191031Z
LAST-MODIFIED:20251015T191031Z
UID:10000531-1823947200-1823949000@thegrotto.org
SUMMARY:Daily Mass
DESCRIPTION:Daily Mass is celebrated at 12 noon Monday – Saturday in the Chapel of Mary. Daily recitation of the Rosary takes place everyday\, one half hour before each Mass. On Fridays\, we pray the Rosary of the Seven Sorrows of Mary (Servite Rosary).
URL:https://thegrotto.org/event/daily-mass/2027-10-19/
LOCATION:Chapel of Mary\, 8840 NE Skidmore St\, Portland\, OR\, 97220
CATEGORIES:Daily Mass
END:VEVENT
BEGIN:VEVENT
DTSTART;TZID=America/Los_Angeles:20271020T120000
DTEND;TZID=America/Los_Angeles:20271020T123000
DTSTAMP:20260422T111956
CREATED:20251015T191031Z
LAST-MODIFIED:20251015T191031Z
UID:10000532-1824033600-1824035400@thegrotto.org
SUMMARY:Daily Mass
DESCRIPTION:Daily Mass is celebrated at 12 noon Monday – Saturday in the Chapel of Mary. Daily recitation of the Rosary takes place everyday\, one half hour before each Mass. On Fridays\, we pray the Rosary of the Seven Sorrows of Mary (Servite Rosary).
URL:https://thegrotto.org/event/daily-mass/2027-10-20/
LOCATION:Chapel of Mary\, 8840 NE Skidmore St\, Portland\, OR\, 97220
CATEGORIES:Daily Mass
END:VEVENT
BEGIN:VEVENT
DTSTART;TZID=America/Los_Angeles:20271021T120000
DTEND;TZID=America/Los_Angeles:20271021T123000
DTSTAMP:20260422T111957
CREATED:20251015T191031Z
LAST-MODIFIED:20251015T191031Z
UID:10000533-1824120000-1824121800@thegrotto.org
SUMMARY:Daily Mass
DESCRIPTION:Daily Mass is celebrated at 12 noon Monday – Saturday in the Chapel of Mary. Daily recitation of the Rosary takes place everyday\, one half hour before each Mass. On Fridays\, we pray the Rosary of the Seven Sorrows of Mary (Servite Rosary).
URL:https://thegrotto.org/event/daily-mass/2027-10-21/
LOCATION:Chapel of Mary\, 8840 NE Skidmore St\, Portland\, OR\, 97220
CATEGORIES:Daily Mass
END:VEVENT
BEGIN:VEVENT
DTSTART;TZID=America/Los_Angeles:20271022T120000
DTEND;TZID=America/Los_Angeles:20271022T123000
DTSTAMP:20260422T111957
CREATED:20251015T191031Z
LAST-MODIFIED:20251015T191031Z
UID:10000534-1824206400-1824208200@thegrotto.org
SUMMARY:Daily Mass
DESCRIPTION:Daily Mass is celebrated at 12 noon Monday – Saturday in the Chapel of Mary. Daily recitation of the Rosary takes place everyday\, one half hour before each Mass. On Fridays\, we pray the Rosary of the Seven Sorrows of Mary (Servite Rosary).
URL:https://thegrotto.org/event/daily-mass/2027-10-22/
LOCATION:Chapel of Mary\, 8840 NE Skidmore St\, Portland\, OR\, 97220
CATEGORIES:Daily Mass
END:VEVENT
BEGIN:VEVENT
DTSTART;TZID=America/Los_Angeles:20271025T120000
DTEND;TZID=America/Los_Angeles:20271025T123000
DTSTAMP:20260422T111957
CREATED:20251015T191031Z
LAST-MODIFIED:20251015T191031Z
UID:10000535-1824465600-1824467400@thegrotto.org
SUMMARY:Daily Mass
DESCRIPTION:Daily Mass is celebrated at 12 noon Monday – Saturday in the Chapel of Mary. Daily recitation of the Rosary takes place everyday\, one half hour before each Mass. On Fridays\, we pray the Rosary of the Seven Sorrows of Mary (Servite Rosary).
URL:https://thegrotto.org/event/daily-mass/2027-10-25/
LOCATION:Chapel of Mary\, 8840 NE Skidmore St\, Portland\, OR\, 97220
CATEGORIES:Daily Mass
END:VEVENT
BEGIN:VEVENT
DTSTART;TZID=America/Los_Angeles:20271026T120000
DTEND;TZID=America/Los_Angeles:20271026T123000
DTSTAMP:20260422T111957
CREATED:20251015T191031Z
LAST-MODIFIED:20251015T191031Z
UID:10000536-1824552000-1824553800@thegrotto.org
SUMMARY:Daily Mass
DESCRIPTION:Daily Mass is celebrated at 12 noon Monday – Saturday in the Chapel of Mary. Daily recitation of the Rosary takes place everyday\, one half hour before each Mass. On Fridays\, we pray the Rosary of the Seven Sorrows of Mary (Servite Rosary).
URL:https://thegrotto.org/event/daily-mass/2027-10-26/
LOCATION:Chapel of Mary\, 8840 NE Skidmore St\, Portland\, OR\, 97220
CATEGORIES:Daily Mass
END:VEVENT
BEGIN:VEVENT
DTSTART;TZID=America/Los_Angeles:20271027T120000
DTEND;TZID=America/Los_Angeles:20271027T123000
DTSTAMP:20260422T111957
CREATED:20251015T191031Z
LAST-MODIFIED:20251015T191031Z
UID:10000537-1824638400-1824640200@thegrotto.org
SUMMARY:Daily Mass
DESCRIPTION:Daily Mass is celebrated at 12 noon Monday – Saturday in the Chapel of Mary. Daily recitation of the Rosary takes place everyday\, one half hour before each Mass. On Fridays\, we pray the Rosary of the Seven Sorrows of Mary (Servite Rosary).
URL:https://thegrotto.org/event/daily-mass/2027-10-27/
LOCATION:Chapel of Mary\, 8840 NE Skidmore St\, Portland\, OR\, 97220
CATEGORIES:Daily Mass
END:VEVENT
BEGIN:VEVENT
DTSTART;TZID=America/Los_Angeles:20271028T120000
DTEND;TZID=America/Los_Angeles:20271028T123000
DTSTAMP:20260422T111957
CREATED:20251015T191031Z
LAST-MODIFIED:20251015T191031Z
UID:10000538-1824724800-1824726600@thegrotto.org
SUMMARY:Daily Mass
DESCRIPTION:Daily Mass is celebrated at 12 noon Monday – Saturday in the Chapel of Mary. Daily recitation of the Rosary takes place everyday\, one half hour before each Mass. On Fridays\, we pray the Rosary of the Seven Sorrows of Mary (Servite Rosary).
URL:https://thegrotto.org/event/daily-mass/2027-10-28/
LOCATION:Chapel of Mary\, 8840 NE Skidmore St\, Portland\, OR\, 97220
CATEGORIES:Daily Mass
END:VEVENT
BEGIN:VEVENT
DTSTART;TZID=America/Los_Angeles:20271029T120000
DTEND;TZID=America/Los_Angeles:20271029T123000
DTSTAMP:20260422T111957
CREATED:20251015T191031Z
LAST-MODIFIED:20251015T191031Z
UID:10000539-1824811200-1824813000@thegrotto.org
SUMMARY:Daily Mass
DESCRIPTION:Daily Mass is celebrated at 12 noon Monday – Saturday in the Chapel of Mary. Daily recitation of the Rosary takes place everyday\, one half hour before each Mass. On Fridays\, we pray the Rosary of the Seven Sorrows of Mary (Servite Rosary).
URL:https://thegrotto.org/event/daily-mass/2027-10-29/
LOCATION:Chapel of Mary\, 8840 NE Skidmore St\, Portland\, OR\, 97220
CATEGORIES:Daily Mass
END:VEVENT
BEGIN:VEVENT
DTSTART;TZID=America/Los_Angeles:20271101T120000
DTEND;TZID=America/Los_Angeles:20271101T123000
DTSTAMP:20260422T111957
CREATED:20251015T191031Z
LAST-MODIFIED:20251015T191031Z
UID:10000540-1825070400-1825072200@thegrotto.org
SUMMARY:Daily Mass
DESCRIPTION:Daily Mass is celebrated at 12 noon Monday – Saturday in the Chapel of Mary. Daily recitation of the Rosary takes place everyday\, one half hour before each Mass. On Fridays\, we pray the Rosary of the Seven Sorrows of Mary (Servite Rosary).
URL:https://thegrotto.org/event/daily-mass/2027-11-01/
LOCATION:Chapel of Mary\, 8840 NE Skidmore St\, Portland\, OR\, 97220
CATEGORIES:Daily Mass
END:VEVENT
BEGIN:VEVENT
DTSTART;TZID=America/Los_Angeles:20271102T120000
DTEND;TZID=America/Los_Angeles:20271102T123000
DTSTAMP:20260422T111957
CREATED:20251015T191031Z
LAST-MODIFIED:20251015T191031Z
UID:10000541-1825156800-1825158600@thegrotto.org
SUMMARY:Daily Mass
DESCRIPTION:Daily Mass is celebrated at 12 noon Monday – Saturday in the Chapel of Mary. Daily recitation of the Rosary takes place everyday\, one half hour before each Mass. On Fridays\, we pray the Rosary of the Seven Sorrows of Mary (Servite Rosary).
URL:https://thegrotto.org/event/daily-mass/2027-11-02/
LOCATION:Chapel of Mary\, 8840 NE Skidmore St\, Portland\, OR\, 97220
CATEGORIES:Daily Mass
END:VEVENT
BEGIN:VEVENT
DTSTART;TZID=America/Los_Angeles:20271103T120000
DTEND;TZID=America/Los_Angeles:20271103T123000
DTSTAMP:20260422T111957
CREATED:20251015T191031Z
LAST-MODIFIED:20251015T191031Z
UID:10000542-1825243200-1825245000@thegrotto.org
SUMMARY:Daily Mass
DESCRIPTION:Daily Mass is celebrated at 12 noon Monday – Saturday in the Chapel of Mary. Daily recitation of the Rosary takes place everyday\, one half hour before each Mass. On Fridays\, we pray the Rosary of the Seven Sorrows of Mary (Servite Rosary).
URL:https://thegrotto.org/event/daily-mass/2027-11-03/
LOCATION:Chapel of Mary\, 8840 NE Skidmore St\, Portland\, OR\, 97220
CATEGORIES:Daily Mass
END:VEVENT
BEGIN:VEVENT
DTSTART;TZID=America/Los_Angeles:20271104T120000
DTEND;TZID=America/Los_Angeles:20271104T123000
DTSTAMP:20260422T111957
CREATED:20251015T191031Z
LAST-MODIFIED:20251015T191031Z
UID:10000543-1825329600-1825331400@thegrotto.org
SUMMARY:Daily Mass
DESCRIPTION:Daily Mass is celebrated at 12 noon Monday – Saturday in the Chapel of Mary. Daily recitation of the Rosary takes place everyday\, one half hour before each Mass. On Fridays\, we pray the Rosary of the Seven Sorrows of Mary (Servite Rosary).
URL:https://thegrotto.org/event/daily-mass/2027-11-04/
LOCATION:Chapel of Mary\, 8840 NE Skidmore St\, Portland\, OR\, 97220
CATEGORIES:Daily Mass
END:VEVENT
BEGIN:VEVENT
DTSTART;TZID=America/Los_Angeles:20271105T120000
DTEND;TZID=America/Los_Angeles:20271105T123000
DTSTAMP:20260422T111957
CREATED:20251015T191031Z
LAST-MODIFIED:20251015T191031Z
UID:10000544-1825416000-1825417800@thegrotto.org
SUMMARY:Daily Mass
DESCRIPTION:Daily Mass is celebrated at 12 noon Monday – Saturday in the Chapel of Mary. Daily recitation of the Rosary takes place everyday\, one half hour before each Mass. On Fridays\, we pray the Rosary of the Seven Sorrows of Mary (Servite Rosary).
URL:https://thegrotto.org/event/daily-mass/2027-11-05/
LOCATION:Chapel of Mary\, 8840 NE Skidmore St\, Portland\, OR\, 97220
CATEGORIES:Daily Mass
END:VEVENT
BEGIN:VEVENT
DTSTART;TZID=America/Los_Angeles:20271108T120000
DTEND;TZID=America/Los_Angeles:20271108T123000
DTSTAMP:20260422T111957
CREATED:20251015T191031Z
LAST-MODIFIED:20251015T191031Z
UID:10000545-1825675200-1825677000@thegrotto.org
SUMMARY:Daily Mass
DESCRIPTION:Daily Mass is celebrated at 12 noon Monday – Saturday in the Chapel of Mary. Daily recitation of the Rosary takes place everyday\, one half hour before each Mass. On Fridays\, we pray the Rosary of the Seven Sorrows of Mary (Servite Rosary).
URL:https://thegrotto.org/event/daily-mass/2027-11-08/
LOCATION:Chapel of Mary\, 8840 NE Skidmore St\, Portland\, OR\, 97220
CATEGORIES:Daily Mass
END:VEVENT
BEGIN:VEVENT
DTSTART;TZID=America/Los_Angeles:20271109T120000
DTEND;TZID=America/Los_Angeles:20271109T123000
DTSTAMP:20260422T111957
CREATED:20251015T191031Z
LAST-MODIFIED:20251015T191031Z
UID:10000546-1825761600-1825763400@thegrotto.org
SUMMARY:Daily Mass
DESCRIPTION:Daily Mass is celebrated at 12 noon Monday – Saturday in the Chapel of Mary. Daily recitation of the Rosary takes place everyday\, one half hour before each Mass. On Fridays\, we pray the Rosary of the Seven Sorrows of Mary (Servite Rosary).
URL:https://thegrotto.org/event/daily-mass/2027-11-09/
LOCATION:Chapel of Mary\, 8840 NE Skidmore St\, Portland\, OR\, 97220
CATEGORIES:Daily Mass
END:VEVENT
BEGIN:VEVENT
DTSTART;TZID=America/Los_Angeles:20271110T120000
DTEND;TZID=America/Los_Angeles:20271110T123000
DTSTAMP:20260422T111957
CREATED:20251015T191031Z
LAST-MODIFIED:20251015T191031Z
UID:10000547-1825848000-1825849800@thegrotto.org
SUMMARY:Daily Mass
DESCRIPTION:Daily Mass is celebrated at 12 noon Monday – Saturday in the Chapel of Mary. Daily recitation of the Rosary takes place everyday\, one half hour before each Mass. On Fridays\, we pray the Rosary of the Seven Sorrows of Mary (Servite Rosary).
URL:https://thegrotto.org/event/daily-mass/2027-11-10/
LOCATION:Chapel of Mary\, 8840 NE Skidmore St\, Portland\, OR\, 97220
CATEGORIES:Daily Mass
END:VEVENT
BEGIN:VEVENT
DTSTART;TZID=America/Los_Angeles:20271111T120000
DTEND;TZID=America/Los_Angeles:20271111T123000
DTSTAMP:20260422T111957
CREATED:20251015T191031Z
LAST-MODIFIED:20251015T191031Z
UID:10000548-1825934400-1825936200@thegrotto.org
SUMMARY:Daily Mass
DESCRIPTION:Daily Mass is celebrated at 12 noon Monday – Saturday in the Chapel of Mary. Daily recitation of the Rosary takes place everyday\, one half hour before each Mass. On Fridays\, we pray the Rosary of the Seven Sorrows of Mary (Servite Rosary).
URL:https://thegrotto.org/event/daily-mass/2027-11-11/
LOCATION:Chapel of Mary\, 8840 NE Skidmore St\, Portland\, OR\, 97220
CATEGORIES:Daily Mass
END:VEVENT
BEGIN:VEVENT
DTSTART;TZID=America/Los_Angeles:20271112T120000
DTEND;TZID=America/Los_Angeles:20271112T123000
DTSTAMP:20260422T111957
CREATED:20251015T191031Z
LAST-MODIFIED:20251015T191031Z
UID:10000549-1826020800-1826022600@thegrotto.org
SUMMARY:Daily Mass
DESCRIPTION:Daily Mass is celebrated at 12 noon Monday – Saturday in the Chapel of Mary. Daily recitation of the Rosary takes place everyday\, one half hour before each Mass. On Fridays\, we pray the Rosary of the Seven Sorrows of Mary (Servite Rosary).
URL:https://thegrotto.org/event/daily-mass/2027-11-12/
LOCATION:Chapel of Mary\, 8840 NE Skidmore St\, Portland\, OR\, 97220
CATEGORIES:Daily Mass
END:VEVENT
BEGIN:VEVENT
DTSTART;TZID=America/Los_Angeles:20271115T120000
DTEND;TZID=America/Los_Angeles:20271115T123000
DTSTAMP:20260422T111957
CREATED:20251015T191031Z
LAST-MODIFIED:20251015T191031Z
UID:10000550-1826280000-1826281800@thegrotto.org
SUMMARY:Daily Mass
DESCRIPTION:Daily Mass is celebrated at 12 noon Monday – Saturday in the Chapel of Mary. Daily recitation of the Rosary takes place everyday\, one half hour before each Mass. On Fridays\, we pray the Rosary of the Seven Sorrows of Mary (Servite Rosary).
URL:https://thegrotto.org/event/daily-mass/2027-11-15/
LOCATION:Chapel of Mary\, 8840 NE Skidmore St\, Portland\, OR\, 97220
CATEGORIES:Daily Mass
END:VEVENT
BEGIN:VEVENT
DTSTART;TZID=America/Los_Angeles:20271116T120000
DTEND;TZID=America/Los_Angeles:20271116T123000
DTSTAMP:20260422T111957
CREATED:20251015T191031Z
LAST-MODIFIED:20251015T191031Z
UID:10000551-1826366400-1826368200@thegrotto.org
SUMMARY:Daily Mass
DESCRIPTION:Daily Mass is celebrated at 12 noon Monday – Saturday in the Chapel of Mary. Daily recitation of the Rosary takes place everyday\, one half hour before each Mass. On Fridays\, we pray the Rosary of the Seven Sorrows of Mary (Servite Rosary).
URL:https://thegrotto.org/event/daily-mass/2027-11-16/
LOCATION:Chapel of Mary\, 8840 NE Skidmore St\, Portland\, OR\, 97220
CATEGORIES:Daily Mass
END:VEVENT
BEGIN:VEVENT
DTSTART;TZID=America/Los_Angeles:20271117T120000
DTEND;TZID=America/Los_Angeles:20271117T123000
DTSTAMP:20260422T111957
CREATED:20251015T191031Z
LAST-MODIFIED:20251015T191031Z
UID:10000552-1826452800-1826454600@thegrotto.org
SUMMARY:Daily Mass
DESCRIPTION:Daily Mass is celebrated at 12 noon Monday – Saturday in the Chapel of Mary. Daily recitation of the Rosary takes place everyday\, one half hour before each Mass. On Fridays\, we pray the Rosary of the Seven Sorrows of Mary (Servite Rosary).
URL:https://thegrotto.org/event/daily-mass/2027-11-17/
LOCATION:Chapel of Mary\, 8840 NE Skidmore St\, Portland\, OR\, 97220
CATEGORIES:Daily Mass
END:VEVENT
END:VCALENDAR