BEGIN:VCALENDAR
VERSION:2.0
PRODID:-//The National Sanctuary of Our Sorrowful Mother, The Grotto - ECPv6.15.17.1//NONSGML v1.0//EN
CALSCALE:GREGORIAN
METHOD:PUBLISH
X-ORIGINAL-URL:https://thegrotto.org
X-WR-CALDESC:Events for The National Sanctuary of Our Sorrowful Mother, The Grotto
REFRESH-INTERVAL;VALUE=DURATION:PT1H
X-Robots-Tag:noindex
X-PUBLISHED-TTL:PT1H
BEGIN:VTIMEZONE
TZID:America/Los_Angeles
BEGIN:DAYLIGHT
TZOFFSETFROM:-0800
TZOFFSETTO:-0700
TZNAME:PDT
DTSTART:20260308T100000
END:DAYLIGHT
BEGIN:STANDARD
TZOFFSETFROM:-0700
TZOFFSETTO:-0800
TZNAME:PST
DTSTART:20261101T090000
END:STANDARD
BEGIN:DAYLIGHT
TZOFFSETFROM:-0800
TZOFFSETTO:-0700
TZNAME:PDT
DTSTART:20270314T100000
END:DAYLIGHT
BEGIN:STANDARD
TZOFFSETFROM:-0700
TZOFFSETTO:-0800
TZNAME:PST
DTSTART:20271107T090000
END:STANDARD
BEGIN:DAYLIGHT
TZOFFSETFROM:-0800
TZOFFSETTO:-0700
TZNAME:PDT
DTSTART:20280312T100000
END:DAYLIGHT
BEGIN:STANDARD
TZOFFSETFROM:-0700
TZOFFSETTO:-0800
TZNAME:PST
DTSTART:20281105T090000
END:STANDARD
BEGIN:DAYLIGHT
TZOFFSETFROM:-0800
TZOFFSETTO:-0700
TZNAME:PDT
DTSTART:20290311T100000
END:DAYLIGHT
BEGIN:STANDARD
TZOFFSETFROM:-0700
TZOFFSETTO:-0800
TZNAME:PST
DTSTART:20291104T090000
END:STANDARD
END:VTIMEZONE
BEGIN:VEVENT
DTSTART;TZID=America/Los_Angeles:20271222T120000
DTEND;TZID=America/Los_Angeles:20271222T123000
DTSTAMP:20260424T181759
CREATED:20251015T191031Z
LAST-MODIFIED:20251015T191031Z
UID:10000577-1829476800-1829478600@thegrotto.org
SUMMARY:Daily Mass
DESCRIPTION:Daily Mass is celebrated at 12 noon Monday – Saturday in the Chapel of Mary. Daily recitation of the Rosary takes place everyday\, one half hour before each Mass. On Fridays\, we pray the Rosary of the Seven Sorrows of Mary (Servite Rosary).
URL:https://thegrotto.org/event/daily-mass/2027-12-22/
LOCATION:Chapel of Mary\, 8840 NE Skidmore St\, Portland\, OR\, 97220
CATEGORIES:Daily Mass
END:VEVENT
BEGIN:VEVENT
DTSTART;TZID=America/Los_Angeles:20271223T120000
DTEND;TZID=America/Los_Angeles:20271223T123000
DTSTAMP:20260424T181759
CREATED:20251015T191031Z
LAST-MODIFIED:20251015T191031Z
UID:10000578-1829563200-1829565000@thegrotto.org
SUMMARY:Daily Mass
DESCRIPTION:Daily Mass is celebrated at 12 noon Monday – Saturday in the Chapel of Mary. Daily recitation of the Rosary takes place everyday\, one half hour before each Mass. On Fridays\, we pray the Rosary of the Seven Sorrows of Mary (Servite Rosary).
URL:https://thegrotto.org/event/daily-mass/2027-12-23/
LOCATION:Chapel of Mary\, 8840 NE Skidmore St\, Portland\, OR\, 97220
CATEGORIES:Daily Mass
END:VEVENT
BEGIN:VEVENT
DTSTART;TZID=America/Los_Angeles:20271224T120000
DTEND;TZID=America/Los_Angeles:20271224T123000
DTSTAMP:20260424T181759
CREATED:20251015T191031Z
LAST-MODIFIED:20251015T191031Z
UID:10000579-1829649600-1829651400@thegrotto.org
SUMMARY:Daily Mass
DESCRIPTION:Daily Mass is celebrated at 12 noon Monday – Saturday in the Chapel of Mary. Daily recitation of the Rosary takes place everyday\, one half hour before each Mass. On Fridays\, we pray the Rosary of the Seven Sorrows of Mary (Servite Rosary).
URL:https://thegrotto.org/event/daily-mass/2027-12-24/
LOCATION:Chapel of Mary\, 8840 NE Skidmore St\, Portland\, OR\, 97220
CATEGORIES:Daily Mass
END:VEVENT
BEGIN:VEVENT
DTSTART;TZID=America/Los_Angeles:20271227T120000
DTEND;TZID=America/Los_Angeles:20271227T123000
DTSTAMP:20260424T181759
CREATED:20251015T191031Z
LAST-MODIFIED:20251015T191031Z
UID:10000580-1829908800-1829910600@thegrotto.org
SUMMARY:Daily Mass
DESCRIPTION:Daily Mass is celebrated at 12 noon Monday – Saturday in the Chapel of Mary. Daily recitation of the Rosary takes place everyday\, one half hour before each Mass. On Fridays\, we pray the Rosary of the Seven Sorrows of Mary (Servite Rosary).
URL:https://thegrotto.org/event/daily-mass/2027-12-27/
LOCATION:Chapel of Mary\, 8840 NE Skidmore St\, Portland\, OR\, 97220
CATEGORIES:Daily Mass
END:VEVENT
BEGIN:VEVENT
DTSTART;TZID=America/Los_Angeles:20271228T120000
DTEND;TZID=America/Los_Angeles:20271228T123000
DTSTAMP:20260424T181759
CREATED:20251015T191031Z
LAST-MODIFIED:20251015T191031Z
UID:10000581-1829995200-1829997000@thegrotto.org
SUMMARY:Daily Mass
DESCRIPTION:Daily Mass is celebrated at 12 noon Monday – Saturday in the Chapel of Mary. Daily recitation of the Rosary takes place everyday\, one half hour before each Mass. On Fridays\, we pray the Rosary of the Seven Sorrows of Mary (Servite Rosary).
URL:https://thegrotto.org/event/daily-mass/2027-12-28/
LOCATION:Chapel of Mary\, 8840 NE Skidmore St\, Portland\, OR\, 97220
CATEGORIES:Daily Mass
END:VEVENT
BEGIN:VEVENT
DTSTART;TZID=America/Los_Angeles:20271229T120000
DTEND;TZID=America/Los_Angeles:20271229T123000
DTSTAMP:20260424T181759
CREATED:20251015T191031Z
LAST-MODIFIED:20251015T191031Z
UID:10000582-1830081600-1830083400@thegrotto.org
SUMMARY:Daily Mass
DESCRIPTION:Daily Mass is celebrated at 12 noon Monday – Saturday in the Chapel of Mary. Daily recitation of the Rosary takes place everyday\, one half hour before each Mass. On Fridays\, we pray the Rosary of the Seven Sorrows of Mary (Servite Rosary).
URL:https://thegrotto.org/event/daily-mass/2027-12-29/
LOCATION:Chapel of Mary\, 8840 NE Skidmore St\, Portland\, OR\, 97220
CATEGORIES:Daily Mass
END:VEVENT
BEGIN:VEVENT
DTSTART;TZID=America/Los_Angeles:20271230T120000
DTEND;TZID=America/Los_Angeles:20271230T123000
DTSTAMP:20260424T181759
CREATED:20251015T191031Z
LAST-MODIFIED:20251015T191031Z
UID:10000583-1830168000-1830169800@thegrotto.org
SUMMARY:Daily Mass
DESCRIPTION:Daily Mass is celebrated at 12 noon Monday – Saturday in the Chapel of Mary. Daily recitation of the Rosary takes place everyday\, one half hour before each Mass. On Fridays\, we pray the Rosary of the Seven Sorrows of Mary (Servite Rosary).
URL:https://thegrotto.org/event/daily-mass/2027-12-30/
LOCATION:Chapel of Mary\, 8840 NE Skidmore St\, Portland\, OR\, 97220
CATEGORIES:Daily Mass
END:VEVENT
BEGIN:VEVENT
DTSTART;TZID=America/Los_Angeles:20271231T120000
DTEND;TZID=America/Los_Angeles:20271231T123000
DTSTAMP:20260424T181759
CREATED:20251015T191031Z
LAST-MODIFIED:20251015T191031Z
UID:10000584-1830254400-1830256200@thegrotto.org
SUMMARY:Daily Mass
DESCRIPTION:Daily Mass is celebrated at 12 noon Monday – Saturday in the Chapel of Mary. Daily recitation of the Rosary takes place everyday\, one half hour before each Mass. On Fridays\, we pray the Rosary of the Seven Sorrows of Mary (Servite Rosary).
URL:https://thegrotto.org/event/daily-mass/2027-12-31/
LOCATION:Chapel of Mary\, 8840 NE Skidmore St\, Portland\, OR\, 97220
CATEGORIES:Daily Mass
END:VEVENT
BEGIN:VEVENT
DTSTART;TZID=America/Los_Angeles:20280103T120000
DTEND;TZID=America/Los_Angeles:20280103T123000
DTSTAMP:20260424T181759
CREATED:20251015T191031Z
LAST-MODIFIED:20251015T191031Z
UID:10000585-1830513600-1830515400@thegrotto.org
SUMMARY:Daily Mass
DESCRIPTION:Daily Mass is celebrated at 12 noon Monday – Saturday in the Chapel of Mary. Daily recitation of the Rosary takes place everyday\, one half hour before each Mass. On Fridays\, we pray the Rosary of the Seven Sorrows of Mary (Servite Rosary).
URL:https://thegrotto.org/event/daily-mass/2028-01-03/
LOCATION:Chapel of Mary\, 8840 NE Skidmore St\, Portland\, OR\, 97220
CATEGORIES:Daily Mass
END:VEVENT
BEGIN:VEVENT
DTSTART;TZID=America/Los_Angeles:20280104T120000
DTEND;TZID=America/Los_Angeles:20280104T123000
DTSTAMP:20260424T181759
CREATED:20251015T191031Z
LAST-MODIFIED:20251015T191031Z
UID:10000586-1830600000-1830601800@thegrotto.org
SUMMARY:Daily Mass
DESCRIPTION:Daily Mass is celebrated at 12 noon Monday – Saturday in the Chapel of Mary. Daily recitation of the Rosary takes place everyday\, one half hour before each Mass. On Fridays\, we pray the Rosary of the Seven Sorrows of Mary (Servite Rosary).
URL:https://thegrotto.org/event/daily-mass/2028-01-04/
LOCATION:Chapel of Mary\, 8840 NE Skidmore St\, Portland\, OR\, 97220
CATEGORIES:Daily Mass
END:VEVENT
BEGIN:VEVENT
DTSTART;TZID=America/Los_Angeles:20280105T120000
DTEND;TZID=America/Los_Angeles:20280105T123000
DTSTAMP:20260424T181759
CREATED:20251015T191031Z
LAST-MODIFIED:20251015T191031Z
UID:10000587-1830686400-1830688200@thegrotto.org
SUMMARY:Daily Mass
DESCRIPTION:Daily Mass is celebrated at 12 noon Monday – Saturday in the Chapel of Mary. Daily recitation of the Rosary takes place everyday\, one half hour before each Mass. On Fridays\, we pray the Rosary of the Seven Sorrows of Mary (Servite Rosary).
URL:https://thegrotto.org/event/daily-mass/2028-01-05/
LOCATION:Chapel of Mary\, 8840 NE Skidmore St\, Portland\, OR\, 97220
CATEGORIES:Daily Mass
END:VEVENT
BEGIN:VEVENT
DTSTART;TZID=America/Los_Angeles:20280106T120000
DTEND;TZID=America/Los_Angeles:20280106T123000
DTSTAMP:20260424T181759
CREATED:20251015T191031Z
LAST-MODIFIED:20251015T191031Z
UID:10000588-1830772800-1830774600@thegrotto.org
SUMMARY:Daily Mass
DESCRIPTION:Daily Mass is celebrated at 12 noon Monday – Saturday in the Chapel of Mary. Daily recitation of the Rosary takes place everyday\, one half hour before each Mass. On Fridays\, we pray the Rosary of the Seven Sorrows of Mary (Servite Rosary).
URL:https://thegrotto.org/event/daily-mass/2028-01-06/
LOCATION:Chapel of Mary\, 8840 NE Skidmore St\, Portland\, OR\, 97220
CATEGORIES:Daily Mass
END:VEVENT
BEGIN:VEVENT
DTSTART;TZID=America/Los_Angeles:20280107T120000
DTEND;TZID=America/Los_Angeles:20280107T123000
DTSTAMP:20260424T181759
CREATED:20251015T191031Z
LAST-MODIFIED:20251015T191031Z
UID:10000589-1830859200-1830861000@thegrotto.org
SUMMARY:Daily Mass
DESCRIPTION:Daily Mass is celebrated at 12 noon Monday – Saturday in the Chapel of Mary. Daily recitation of the Rosary takes place everyday\, one half hour before each Mass. On Fridays\, we pray the Rosary of the Seven Sorrows of Mary (Servite Rosary).
URL:https://thegrotto.org/event/daily-mass/2028-01-07/
LOCATION:Chapel of Mary\, 8840 NE Skidmore St\, Portland\, OR\, 97220
CATEGORIES:Daily Mass
END:VEVENT
BEGIN:VEVENT
DTSTART;TZID=America/Los_Angeles:20280110T120000
DTEND;TZID=America/Los_Angeles:20280110T123000
DTSTAMP:20260424T181759
CREATED:20251015T191031Z
LAST-MODIFIED:20251015T191031Z
UID:10000590-1831118400-1831120200@thegrotto.org
SUMMARY:Daily Mass
DESCRIPTION:Daily Mass is celebrated at 12 noon Monday – Saturday in the Chapel of Mary. Daily recitation of the Rosary takes place everyday\, one half hour before each Mass. On Fridays\, we pray the Rosary of the Seven Sorrows of Mary (Servite Rosary).
URL:https://thegrotto.org/event/daily-mass/2028-01-10/
LOCATION:Chapel of Mary\, 8840 NE Skidmore St\, Portland\, OR\, 97220
CATEGORIES:Daily Mass
END:VEVENT
BEGIN:VEVENT
DTSTART;TZID=America/Los_Angeles:20280111T120000
DTEND;TZID=America/Los_Angeles:20280111T123000
DTSTAMP:20260424T181759
CREATED:20251015T191031Z
LAST-MODIFIED:20251015T191031Z
UID:10000591-1831204800-1831206600@thegrotto.org
SUMMARY:Daily Mass
DESCRIPTION:Daily Mass is celebrated at 12 noon Monday – Saturday in the Chapel of Mary. Daily recitation of the Rosary takes place everyday\, one half hour before each Mass. On Fridays\, we pray the Rosary of the Seven Sorrows of Mary (Servite Rosary).
URL:https://thegrotto.org/event/daily-mass/2028-01-11/
LOCATION:Chapel of Mary\, 8840 NE Skidmore St\, Portland\, OR\, 97220
CATEGORIES:Daily Mass
END:VEVENT
BEGIN:VEVENT
DTSTART;TZID=America/Los_Angeles:20280112T120000
DTEND;TZID=America/Los_Angeles:20280112T123000
DTSTAMP:20260424T181759
CREATED:20251015T191031Z
LAST-MODIFIED:20251015T191031Z
UID:10000592-1831291200-1831293000@thegrotto.org
SUMMARY:Daily Mass
DESCRIPTION:Daily Mass is celebrated at 12 noon Monday – Saturday in the Chapel of Mary. Daily recitation of the Rosary takes place everyday\, one half hour before each Mass. On Fridays\, we pray the Rosary of the Seven Sorrows of Mary (Servite Rosary).
URL:https://thegrotto.org/event/daily-mass/2028-01-12/
LOCATION:Chapel of Mary\, 8840 NE Skidmore St\, Portland\, OR\, 97220
CATEGORIES:Daily Mass
END:VEVENT
BEGIN:VEVENT
DTSTART;TZID=America/Los_Angeles:20280113T120000
DTEND;TZID=America/Los_Angeles:20280113T123000
DTSTAMP:20260424T181759
CREATED:20251015T191031Z
LAST-MODIFIED:20251015T191031Z
UID:10000593-1831377600-1831379400@thegrotto.org
SUMMARY:Daily Mass
DESCRIPTION:Daily Mass is celebrated at 12 noon Monday – Saturday in the Chapel of Mary. Daily recitation of the Rosary takes place everyday\, one half hour before each Mass. On Fridays\, we pray the Rosary of the Seven Sorrows of Mary (Servite Rosary).
URL:https://thegrotto.org/event/daily-mass/2028-01-13/
LOCATION:Chapel of Mary\, 8840 NE Skidmore St\, Portland\, OR\, 97220
CATEGORIES:Daily Mass
END:VEVENT
BEGIN:VEVENT
DTSTART;TZID=America/Los_Angeles:20280114T120000
DTEND;TZID=America/Los_Angeles:20280114T123000
DTSTAMP:20260424T181759
CREATED:20251015T191031Z
LAST-MODIFIED:20251015T191031Z
UID:10000594-1831464000-1831465800@thegrotto.org
SUMMARY:Daily Mass
DESCRIPTION:Daily Mass is celebrated at 12 noon Monday – Saturday in the Chapel of Mary. Daily recitation of the Rosary takes place everyday\, one half hour before each Mass. On Fridays\, we pray the Rosary of the Seven Sorrows of Mary (Servite Rosary).
URL:https://thegrotto.org/event/daily-mass/2028-01-14/
LOCATION:Chapel of Mary\, 8840 NE Skidmore St\, Portland\, OR\, 97220
CATEGORIES:Daily Mass
END:VEVENT
BEGIN:VEVENT
DTSTART;TZID=America/Los_Angeles:20280117T120000
DTEND;TZID=America/Los_Angeles:20280117T123000
DTSTAMP:20260424T181759
CREATED:20251015T191031Z
LAST-MODIFIED:20251015T191031Z
UID:10000595-1831723200-1831725000@thegrotto.org
SUMMARY:Daily Mass
DESCRIPTION:Daily Mass is celebrated at 12 noon Monday – Saturday in the Chapel of Mary. Daily recitation of the Rosary takes place everyday\, one half hour before each Mass. On Fridays\, we pray the Rosary of the Seven Sorrows of Mary (Servite Rosary).
URL:https://thegrotto.org/event/daily-mass/2028-01-17/
LOCATION:Chapel of Mary\, 8840 NE Skidmore St\, Portland\, OR\, 97220
CATEGORIES:Daily Mass
END:VEVENT
BEGIN:VEVENT
DTSTART;TZID=America/Los_Angeles:20280118T120000
DTEND;TZID=America/Los_Angeles:20280118T123000
DTSTAMP:20260424T181759
CREATED:20251015T191031Z
LAST-MODIFIED:20251015T191031Z
UID:10000596-1831809600-1831811400@thegrotto.org
SUMMARY:Daily Mass
DESCRIPTION:Daily Mass is celebrated at 12 noon Monday – Saturday in the Chapel of Mary. Daily recitation of the Rosary takes place everyday\, one half hour before each Mass. On Fridays\, we pray the Rosary of the Seven Sorrows of Mary (Servite Rosary).
URL:https://thegrotto.org/event/daily-mass/2028-01-18/
LOCATION:Chapel of Mary\, 8840 NE Skidmore St\, Portland\, OR\, 97220
CATEGORIES:Daily Mass
END:VEVENT
BEGIN:VEVENT
DTSTART;TZID=America/Los_Angeles:20280119T120000
DTEND;TZID=America/Los_Angeles:20280119T123000
DTSTAMP:20260424T181759
CREATED:20251015T191031Z
LAST-MODIFIED:20251015T191031Z
UID:10000597-1831896000-1831897800@thegrotto.org
SUMMARY:Daily Mass
DESCRIPTION:Daily Mass is celebrated at 12 noon Monday – Saturday in the Chapel of Mary. Daily recitation of the Rosary takes place everyday\, one half hour before each Mass. On Fridays\, we pray the Rosary of the Seven Sorrows of Mary (Servite Rosary).
URL:https://thegrotto.org/event/daily-mass/2028-01-19/
LOCATION:Chapel of Mary\, 8840 NE Skidmore St\, Portland\, OR\, 97220
CATEGORIES:Daily Mass
END:VEVENT
BEGIN:VEVENT
DTSTART;TZID=America/Los_Angeles:20280120T120000
DTEND;TZID=America/Los_Angeles:20280120T123000
DTSTAMP:20260424T181759
CREATED:20251015T191031Z
LAST-MODIFIED:20251015T191031Z
UID:10000598-1831982400-1831984200@thegrotto.org
SUMMARY:Daily Mass
DESCRIPTION:Daily Mass is celebrated at 12 noon Monday – Saturday in the Chapel of Mary. Daily recitation of the Rosary takes place everyday\, one half hour before each Mass. On Fridays\, we pray the Rosary of the Seven Sorrows of Mary (Servite Rosary).
URL:https://thegrotto.org/event/daily-mass/2028-01-20/
LOCATION:Chapel of Mary\, 8840 NE Skidmore St\, Portland\, OR\, 97220
CATEGORIES:Daily Mass
END:VEVENT
BEGIN:VEVENT
DTSTART;TZID=America/Los_Angeles:20280121T120000
DTEND;TZID=America/Los_Angeles:20280121T123000
DTSTAMP:20260424T181759
CREATED:20251015T191031Z
LAST-MODIFIED:20251015T191031Z
UID:10000599-1832068800-1832070600@thegrotto.org
SUMMARY:Daily Mass
DESCRIPTION:Daily Mass is celebrated at 12 noon Monday – Saturday in the Chapel of Mary. Daily recitation of the Rosary takes place everyday\, one half hour before each Mass. On Fridays\, we pray the Rosary of the Seven Sorrows of Mary (Servite Rosary).
URL:https://thegrotto.org/event/daily-mass/2028-01-21/
LOCATION:Chapel of Mary\, 8840 NE Skidmore St\, Portland\, OR\, 97220
CATEGORIES:Daily Mass
END:VEVENT
BEGIN:VEVENT
DTSTART;TZID=America/Los_Angeles:20280124T120000
DTEND;TZID=America/Los_Angeles:20280124T123000
DTSTAMP:20260424T181759
CREATED:20251015T191031Z
LAST-MODIFIED:20251015T191031Z
UID:10000600-1832328000-1832329800@thegrotto.org
SUMMARY:Daily Mass
DESCRIPTION:Daily Mass is celebrated at 12 noon Monday – Saturday in the Chapel of Mary. Daily recitation of the Rosary takes place everyday\, one half hour before each Mass. On Fridays\, we pray the Rosary of the Seven Sorrows of Mary (Servite Rosary).
URL:https://thegrotto.org/event/daily-mass/2028-01-24/
LOCATION:Chapel of Mary\, 8840 NE Skidmore St\, Portland\, OR\, 97220
CATEGORIES:Daily Mass
END:VEVENT
BEGIN:VEVENT
DTSTART;TZID=America/Los_Angeles:20280125T120000
DTEND;TZID=America/Los_Angeles:20280125T123000
DTSTAMP:20260424T181759
CREATED:20251015T191031Z
LAST-MODIFIED:20251015T191031Z
UID:10000601-1832414400-1832416200@thegrotto.org
SUMMARY:Daily Mass
DESCRIPTION:Daily Mass is celebrated at 12 noon Monday – Saturday in the Chapel of Mary. Daily recitation of the Rosary takes place everyday\, one half hour before each Mass. On Fridays\, we pray the Rosary of the Seven Sorrows of Mary (Servite Rosary).
URL:https://thegrotto.org/event/daily-mass/2028-01-25/
LOCATION:Chapel of Mary\, 8840 NE Skidmore St\, Portland\, OR\, 97220
CATEGORIES:Daily Mass
END:VEVENT
BEGIN:VEVENT
DTSTART;TZID=America/Los_Angeles:20280126T120000
DTEND;TZID=America/Los_Angeles:20280126T123000
DTSTAMP:20260424T181759
CREATED:20251015T191031Z
LAST-MODIFIED:20251015T191031Z
UID:10000602-1832500800-1832502600@thegrotto.org
SUMMARY:Daily Mass
DESCRIPTION:Daily Mass is celebrated at 12 noon Monday – Saturday in the Chapel of Mary. Daily recitation of the Rosary takes place everyday\, one half hour before each Mass. On Fridays\, we pray the Rosary of the Seven Sorrows of Mary (Servite Rosary).
URL:https://thegrotto.org/event/daily-mass/2028-01-26/
LOCATION:Chapel of Mary\, 8840 NE Skidmore St\, Portland\, OR\, 97220
CATEGORIES:Daily Mass
END:VEVENT
BEGIN:VEVENT
DTSTART;TZID=America/Los_Angeles:20280127T120000
DTEND;TZID=America/Los_Angeles:20280127T123000
DTSTAMP:20260424T181759
CREATED:20251015T191031Z
LAST-MODIFIED:20251015T191031Z
UID:10000603-1832587200-1832589000@thegrotto.org
SUMMARY:Daily Mass
DESCRIPTION:Daily Mass is celebrated at 12 noon Monday – Saturday in the Chapel of Mary. Daily recitation of the Rosary takes place everyday\, one half hour before each Mass. On Fridays\, we pray the Rosary of the Seven Sorrows of Mary (Servite Rosary).
URL:https://thegrotto.org/event/daily-mass/2028-01-27/
LOCATION:Chapel of Mary\, 8840 NE Skidmore St\, Portland\, OR\, 97220
CATEGORIES:Daily Mass
END:VEVENT
BEGIN:VEVENT
DTSTART;TZID=America/Los_Angeles:20280128T120000
DTEND;TZID=America/Los_Angeles:20280128T123000
DTSTAMP:20260424T181759
CREATED:20251015T191031Z
LAST-MODIFIED:20251015T191031Z
UID:10000604-1832673600-1832675400@thegrotto.org
SUMMARY:Daily Mass
DESCRIPTION:Daily Mass is celebrated at 12 noon Monday – Saturday in the Chapel of Mary. Daily recitation of the Rosary takes place everyday\, one half hour before each Mass. On Fridays\, we pray the Rosary of the Seven Sorrows of Mary (Servite Rosary).
URL:https://thegrotto.org/event/daily-mass/2028-01-28/
LOCATION:Chapel of Mary\, 8840 NE Skidmore St\, Portland\, OR\, 97220
CATEGORIES:Daily Mass
END:VEVENT
BEGIN:VEVENT
DTSTART;TZID=America/Los_Angeles:20280131T120000
DTEND;TZID=America/Los_Angeles:20280131T123000
DTSTAMP:20260424T181759
CREATED:20251015T191031Z
LAST-MODIFIED:20251015T191031Z
UID:10000605-1832932800-1832934600@thegrotto.org
SUMMARY:Daily Mass
DESCRIPTION:Daily Mass is celebrated at 12 noon Monday – Saturday in the Chapel of Mary. Daily recitation of the Rosary takes place everyday\, one half hour before each Mass. On Fridays\, we pray the Rosary of the Seven Sorrows of Mary (Servite Rosary).
URL:https://thegrotto.org/event/daily-mass/2028-01-31/
LOCATION:Chapel of Mary\, 8840 NE Skidmore St\, Portland\, OR\, 97220
CATEGORIES:Daily Mass
END:VEVENT
BEGIN:VEVENT
DTSTART;TZID=America/Los_Angeles:20280201T120000
DTEND;TZID=America/Los_Angeles:20280201T123000
DTSTAMP:20260424T181759
CREATED:20251015T191031Z
LAST-MODIFIED:20251015T191031Z
UID:10000606-1833019200-1833021000@thegrotto.org
SUMMARY:Daily Mass
DESCRIPTION:Daily Mass is celebrated at 12 noon Monday – Saturday in the Chapel of Mary. Daily recitation of the Rosary takes place everyday\, one half hour before each Mass. On Fridays\, we pray the Rosary of the Seven Sorrows of Mary (Servite Rosary).
URL:https://thegrotto.org/event/daily-mass/2028-02-01/
LOCATION:Chapel of Mary\, 8840 NE Skidmore St\, Portland\, OR\, 97220
CATEGORIES:Daily Mass
END:VEVENT
END:VCALENDAR