BEGIN:VCALENDAR
VERSION:2.0
PRODID:-//The National Sanctuary of Our Sorrowful Mother, The Grotto - ECPv6.15.17.1//NONSGML v1.0//EN
CALSCALE:GREGORIAN
METHOD:PUBLISH
X-ORIGINAL-URL:https://thegrotto.org
X-WR-CALDESC:Events for The National Sanctuary of Our Sorrowful Mother, The Grotto
REFRESH-INTERVAL;VALUE=DURATION:PT1H
X-Robots-Tag:noindex
X-PUBLISHED-TTL:PT1H
BEGIN:VTIMEZONE
TZID:America/Los_Angeles
BEGIN:DAYLIGHT
TZOFFSETFROM:-0800
TZOFFSETTO:-0700
TZNAME:PDT
DTSTART:20270314T100000
END:DAYLIGHT
BEGIN:STANDARD
TZOFFSETFROM:-0700
TZOFFSETTO:-0800
TZNAME:PST
DTSTART:20271107T090000
END:STANDARD
BEGIN:DAYLIGHT
TZOFFSETFROM:-0800
TZOFFSETTO:-0700
TZNAME:PDT
DTSTART:20280312T100000
END:DAYLIGHT
BEGIN:STANDARD
TZOFFSETFROM:-0700
TZOFFSETTO:-0800
TZNAME:PST
DTSTART:20281105T090000
END:STANDARD
BEGIN:DAYLIGHT
TZOFFSETFROM:-0800
TZOFFSETTO:-0700
TZNAME:PDT
DTSTART:20290311T100000
END:DAYLIGHT
BEGIN:STANDARD
TZOFFSETFROM:-0700
TZOFFSETTO:-0800
TZNAME:PST
DTSTART:20291104T090000
END:STANDARD
END:VTIMEZONE
BEGIN:VEVENT
DTSTART;TZID=America/Los_Angeles:20280210T120000
DTEND;TZID=America/Los_Angeles:20280210T123000
DTSTAMP:20260425T075141
CREATED:20251015T191031Z
LAST-MODIFIED:20251015T191031Z
UID:10000613-1833796800-1833798600@thegrotto.org
SUMMARY:Daily Mass
DESCRIPTION:Daily Mass is celebrated at 12 noon Monday – Saturday in the Chapel of Mary. Daily recitation of the Rosary takes place everyday\, one half hour before each Mass. On Fridays\, we pray the Rosary of the Seven Sorrows of Mary (Servite Rosary).
URL:https://thegrotto.org/event/daily-mass/2028-02-10/
LOCATION:Chapel of Mary\, 8840 NE Skidmore St\, Portland\, OR\, 97220
CATEGORIES:Daily Mass
END:VEVENT
BEGIN:VEVENT
DTSTART;TZID=America/Los_Angeles:20280211T120000
DTEND;TZID=America/Los_Angeles:20280211T123000
DTSTAMP:20260425T075141
CREATED:20251015T191031Z
LAST-MODIFIED:20251015T191031Z
UID:10000614-1833883200-1833885000@thegrotto.org
SUMMARY:Daily Mass
DESCRIPTION:Daily Mass is celebrated at 12 noon Monday – Saturday in the Chapel of Mary. Daily recitation of the Rosary takes place everyday\, one half hour before each Mass. On Fridays\, we pray the Rosary of the Seven Sorrows of Mary (Servite Rosary).
URL:https://thegrotto.org/event/daily-mass/2028-02-11/
LOCATION:Chapel of Mary\, 8840 NE Skidmore St\, Portland\, OR\, 97220
CATEGORIES:Daily Mass
END:VEVENT
BEGIN:VEVENT
DTSTART;TZID=America/Los_Angeles:20280214T120000
DTEND;TZID=America/Los_Angeles:20280214T123000
DTSTAMP:20260425T075141
CREATED:20251015T191031Z
LAST-MODIFIED:20251015T191031Z
UID:10000615-1834142400-1834144200@thegrotto.org
SUMMARY:Daily Mass
DESCRIPTION:Daily Mass is celebrated at 12 noon Monday – Saturday in the Chapel of Mary. Daily recitation of the Rosary takes place everyday\, one half hour before each Mass. On Fridays\, we pray the Rosary of the Seven Sorrows of Mary (Servite Rosary).
URL:https://thegrotto.org/event/daily-mass/2028-02-14/
LOCATION:Chapel of Mary\, 8840 NE Skidmore St\, Portland\, OR\, 97220
CATEGORIES:Daily Mass
END:VEVENT
BEGIN:VEVENT
DTSTART;TZID=America/Los_Angeles:20280215T120000
DTEND;TZID=America/Los_Angeles:20280215T123000
DTSTAMP:20260425T075141
CREATED:20251015T191031Z
LAST-MODIFIED:20251015T191031Z
UID:10000616-1834228800-1834230600@thegrotto.org
SUMMARY:Daily Mass
DESCRIPTION:Daily Mass is celebrated at 12 noon Monday – Saturday in the Chapel of Mary. Daily recitation of the Rosary takes place everyday\, one half hour before each Mass. On Fridays\, we pray the Rosary of the Seven Sorrows of Mary (Servite Rosary).
URL:https://thegrotto.org/event/daily-mass/2028-02-15/
LOCATION:Chapel of Mary\, 8840 NE Skidmore St\, Portland\, OR\, 97220
CATEGORIES:Daily Mass
END:VEVENT
BEGIN:VEVENT
DTSTART;TZID=America/Los_Angeles:20280216T120000
DTEND;TZID=America/Los_Angeles:20280216T123000
DTSTAMP:20260425T075141
CREATED:20251015T191031Z
LAST-MODIFIED:20251015T191031Z
UID:10000617-1834315200-1834317000@thegrotto.org
SUMMARY:Daily Mass
DESCRIPTION:Daily Mass is celebrated at 12 noon Monday – Saturday in the Chapel of Mary. Daily recitation of the Rosary takes place everyday\, one half hour before each Mass. On Fridays\, we pray the Rosary of the Seven Sorrows of Mary (Servite Rosary).
URL:https://thegrotto.org/event/daily-mass/2028-02-16/
LOCATION:Chapel of Mary\, 8840 NE Skidmore St\, Portland\, OR\, 97220
CATEGORIES:Daily Mass
END:VEVENT
BEGIN:VEVENT
DTSTART;TZID=America/Los_Angeles:20280217T120000
DTEND;TZID=America/Los_Angeles:20280217T123000
DTSTAMP:20260425T075141
CREATED:20251015T191031Z
LAST-MODIFIED:20251015T191031Z
UID:10000618-1834401600-1834403400@thegrotto.org
SUMMARY:Daily Mass
DESCRIPTION:Daily Mass is celebrated at 12 noon Monday – Saturday in the Chapel of Mary. Daily recitation of the Rosary takes place everyday\, one half hour before each Mass. On Fridays\, we pray the Rosary of the Seven Sorrows of Mary (Servite Rosary).
URL:https://thegrotto.org/event/daily-mass/2028-02-17/
LOCATION:Chapel of Mary\, 8840 NE Skidmore St\, Portland\, OR\, 97220
CATEGORIES:Daily Mass
END:VEVENT
BEGIN:VEVENT
DTSTART;TZID=America/Los_Angeles:20280218T120000
DTEND;TZID=America/Los_Angeles:20280218T123000
DTSTAMP:20260425T075141
CREATED:20251015T191031Z
LAST-MODIFIED:20251015T191031Z
UID:10000619-1834488000-1834489800@thegrotto.org
SUMMARY:Daily Mass
DESCRIPTION:Daily Mass is celebrated at 12 noon Monday – Saturday in the Chapel of Mary. Daily recitation of the Rosary takes place everyday\, one half hour before each Mass. On Fridays\, we pray the Rosary of the Seven Sorrows of Mary (Servite Rosary).
URL:https://thegrotto.org/event/daily-mass/2028-02-18/
LOCATION:Chapel of Mary\, 8840 NE Skidmore St\, Portland\, OR\, 97220
CATEGORIES:Daily Mass
END:VEVENT
BEGIN:VEVENT
DTSTART;TZID=America/Los_Angeles:20280221T120000
DTEND;TZID=America/Los_Angeles:20280221T123000
DTSTAMP:20260425T075141
CREATED:20251015T191031Z
LAST-MODIFIED:20251015T191031Z
UID:10000620-1834747200-1834749000@thegrotto.org
SUMMARY:Daily Mass
DESCRIPTION:Daily Mass is celebrated at 12 noon Monday – Saturday in the Chapel of Mary. Daily recitation of the Rosary takes place everyday\, one half hour before each Mass. On Fridays\, we pray the Rosary of the Seven Sorrows of Mary (Servite Rosary).
URL:https://thegrotto.org/event/daily-mass/2028-02-21/
LOCATION:Chapel of Mary\, 8840 NE Skidmore St\, Portland\, OR\, 97220
CATEGORIES:Daily Mass
END:VEVENT
BEGIN:VEVENT
DTSTART;TZID=America/Los_Angeles:20280222T120000
DTEND;TZID=America/Los_Angeles:20280222T123000
DTSTAMP:20260425T075141
CREATED:20251015T191031Z
LAST-MODIFIED:20251015T191031Z
UID:10000621-1834833600-1834835400@thegrotto.org
SUMMARY:Daily Mass
DESCRIPTION:Daily Mass is celebrated at 12 noon Monday – Saturday in the Chapel of Mary. Daily recitation of the Rosary takes place everyday\, one half hour before each Mass. On Fridays\, we pray the Rosary of the Seven Sorrows of Mary (Servite Rosary).
URL:https://thegrotto.org/event/daily-mass/2028-02-22/
LOCATION:Chapel of Mary\, 8840 NE Skidmore St\, Portland\, OR\, 97220
CATEGORIES:Daily Mass
END:VEVENT
BEGIN:VEVENT
DTSTART;TZID=America/Los_Angeles:20280223T120000
DTEND;TZID=America/Los_Angeles:20280223T123000
DTSTAMP:20260425T075141
CREATED:20251015T191031Z
LAST-MODIFIED:20251015T191031Z
UID:10000622-1834920000-1834921800@thegrotto.org
SUMMARY:Daily Mass
DESCRIPTION:Daily Mass is celebrated at 12 noon Monday – Saturday in the Chapel of Mary. Daily recitation of the Rosary takes place everyday\, one half hour before each Mass. On Fridays\, we pray the Rosary of the Seven Sorrows of Mary (Servite Rosary).
URL:https://thegrotto.org/event/daily-mass/2028-02-23/
LOCATION:Chapel of Mary\, 8840 NE Skidmore St\, Portland\, OR\, 97220
CATEGORIES:Daily Mass
END:VEVENT
BEGIN:VEVENT
DTSTART;TZID=America/Los_Angeles:20280224T120000
DTEND;TZID=America/Los_Angeles:20280224T123000
DTSTAMP:20260425T075141
CREATED:20251015T191031Z
LAST-MODIFIED:20251015T191031Z
UID:10000623-1835006400-1835008200@thegrotto.org
SUMMARY:Daily Mass
DESCRIPTION:Daily Mass is celebrated at 12 noon Monday – Saturday in the Chapel of Mary. Daily recitation of the Rosary takes place everyday\, one half hour before each Mass. On Fridays\, we pray the Rosary of the Seven Sorrows of Mary (Servite Rosary).
URL:https://thegrotto.org/event/daily-mass/2028-02-24/
LOCATION:Chapel of Mary\, 8840 NE Skidmore St\, Portland\, OR\, 97220
CATEGORIES:Daily Mass
END:VEVENT
BEGIN:VEVENT
DTSTART;TZID=America/Los_Angeles:20280225T120000
DTEND;TZID=America/Los_Angeles:20280225T123000
DTSTAMP:20260425T075141
CREATED:20251015T191031Z
LAST-MODIFIED:20251015T191031Z
UID:10000624-1835092800-1835094600@thegrotto.org
SUMMARY:Daily Mass
DESCRIPTION:Daily Mass is celebrated at 12 noon Monday – Saturday in the Chapel of Mary. Daily recitation of the Rosary takes place everyday\, one half hour before each Mass. On Fridays\, we pray the Rosary of the Seven Sorrows of Mary (Servite Rosary).
URL:https://thegrotto.org/event/daily-mass/2028-02-25/
LOCATION:Chapel of Mary\, 8840 NE Skidmore St\, Portland\, OR\, 97220
CATEGORIES:Daily Mass
END:VEVENT
BEGIN:VEVENT
DTSTART;TZID=America/Los_Angeles:20280228T120000
DTEND;TZID=America/Los_Angeles:20280228T123000
DTSTAMP:20260425T075141
CREATED:20251015T191031Z
LAST-MODIFIED:20251015T191031Z
UID:10000625-1835352000-1835353800@thegrotto.org
SUMMARY:Daily Mass
DESCRIPTION:Daily Mass is celebrated at 12 noon Monday – Saturday in the Chapel of Mary. Daily recitation of the Rosary takes place everyday\, one half hour before each Mass. On Fridays\, we pray the Rosary of the Seven Sorrows of Mary (Servite Rosary).
URL:https://thegrotto.org/event/daily-mass/2028-02-28/
LOCATION:Chapel of Mary\, 8840 NE Skidmore St\, Portland\, OR\, 97220
CATEGORIES:Daily Mass
END:VEVENT
BEGIN:VEVENT
DTSTART;TZID=America/Los_Angeles:20280229T120000
DTEND;TZID=America/Los_Angeles:20280229T123000
DTSTAMP:20260425T075141
CREATED:20251015T191031Z
LAST-MODIFIED:20251015T191031Z
UID:10000626-1835438400-1835440200@thegrotto.org
SUMMARY:Daily Mass
DESCRIPTION:Daily Mass is celebrated at 12 noon Monday – Saturday in the Chapel of Mary. Daily recitation of the Rosary takes place everyday\, one half hour before each Mass. On Fridays\, we pray the Rosary of the Seven Sorrows of Mary (Servite Rosary).
URL:https://thegrotto.org/event/daily-mass/2028-02-29/
LOCATION:Chapel of Mary\, 8840 NE Skidmore St\, Portland\, OR\, 97220
CATEGORIES:Daily Mass
END:VEVENT
BEGIN:VEVENT
DTSTART;TZID=America/Los_Angeles:20280301T120000
DTEND;TZID=America/Los_Angeles:20280301T123000
DTSTAMP:20260425T075141
CREATED:20251015T191031Z
LAST-MODIFIED:20251015T191031Z
UID:10000627-1835524800-1835526600@thegrotto.org
SUMMARY:Daily Mass
DESCRIPTION:Daily Mass is celebrated at 12 noon Monday – Saturday in the Chapel of Mary. Daily recitation of the Rosary takes place everyday\, one half hour before each Mass. On Fridays\, we pray the Rosary of the Seven Sorrows of Mary (Servite Rosary).
URL:https://thegrotto.org/event/daily-mass/2028-03-01/
LOCATION:Chapel of Mary\, 8840 NE Skidmore St\, Portland\, OR\, 97220
CATEGORIES:Daily Mass
END:VEVENT
BEGIN:VEVENT
DTSTART;TZID=America/Los_Angeles:20280302T120000
DTEND;TZID=America/Los_Angeles:20280302T123000
DTSTAMP:20260425T075141
CREATED:20251015T191031Z
LAST-MODIFIED:20251015T191031Z
UID:10000628-1835611200-1835613000@thegrotto.org
SUMMARY:Daily Mass
DESCRIPTION:Daily Mass is celebrated at 12 noon Monday – Saturday in the Chapel of Mary. Daily recitation of the Rosary takes place everyday\, one half hour before each Mass. On Fridays\, we pray the Rosary of the Seven Sorrows of Mary (Servite Rosary).
URL:https://thegrotto.org/event/daily-mass/2028-03-02/
LOCATION:Chapel of Mary\, 8840 NE Skidmore St\, Portland\, OR\, 97220
CATEGORIES:Daily Mass
END:VEVENT
BEGIN:VEVENT
DTSTART;TZID=America/Los_Angeles:20280303T120000
DTEND;TZID=America/Los_Angeles:20280303T123000
DTSTAMP:20260425T075141
CREATED:20251015T191031Z
LAST-MODIFIED:20251015T191031Z
UID:10000629-1835697600-1835699400@thegrotto.org
SUMMARY:Daily Mass
DESCRIPTION:Daily Mass is celebrated at 12 noon Monday – Saturday in the Chapel of Mary. Daily recitation of the Rosary takes place everyday\, one half hour before each Mass. On Fridays\, we pray the Rosary of the Seven Sorrows of Mary (Servite Rosary).
URL:https://thegrotto.org/event/daily-mass/2028-03-03/
LOCATION:Chapel of Mary\, 8840 NE Skidmore St\, Portland\, OR\, 97220
CATEGORIES:Daily Mass
END:VEVENT
BEGIN:VEVENT
DTSTART;TZID=America/Los_Angeles:20280306T120000
DTEND;TZID=America/Los_Angeles:20280306T123000
DTSTAMP:20260425T075141
CREATED:20251015T191031Z
LAST-MODIFIED:20251015T191031Z
UID:10000630-1835956800-1835958600@thegrotto.org
SUMMARY:Daily Mass
DESCRIPTION:Daily Mass is celebrated at 12 noon Monday – Saturday in the Chapel of Mary. Daily recitation of the Rosary takes place everyday\, one half hour before each Mass. On Fridays\, we pray the Rosary of the Seven Sorrows of Mary (Servite Rosary).
URL:https://thegrotto.org/event/daily-mass/2028-03-06/
LOCATION:Chapel of Mary\, 8840 NE Skidmore St\, Portland\, OR\, 97220
CATEGORIES:Daily Mass
END:VEVENT
BEGIN:VEVENT
DTSTART;TZID=America/Los_Angeles:20280307T120000
DTEND;TZID=America/Los_Angeles:20280307T123000
DTSTAMP:20260425T075141
CREATED:20251015T191031Z
LAST-MODIFIED:20251015T191031Z
UID:10000631-1836043200-1836045000@thegrotto.org
SUMMARY:Daily Mass
DESCRIPTION:Daily Mass is celebrated at 12 noon Monday – Saturday in the Chapel of Mary. Daily recitation of the Rosary takes place everyday\, one half hour before each Mass. On Fridays\, we pray the Rosary of the Seven Sorrows of Mary (Servite Rosary).
URL:https://thegrotto.org/event/daily-mass/2028-03-07/
LOCATION:Chapel of Mary\, 8840 NE Skidmore St\, Portland\, OR\, 97220
CATEGORIES:Daily Mass
END:VEVENT
BEGIN:VEVENT
DTSTART;TZID=America/Los_Angeles:20280308T120000
DTEND;TZID=America/Los_Angeles:20280308T123000
DTSTAMP:20260425T075141
CREATED:20251015T191031Z
LAST-MODIFIED:20251015T191031Z
UID:10000632-1836129600-1836131400@thegrotto.org
SUMMARY:Daily Mass
DESCRIPTION:Daily Mass is celebrated at 12 noon Monday – Saturday in the Chapel of Mary. Daily recitation of the Rosary takes place everyday\, one half hour before each Mass. On Fridays\, we pray the Rosary of the Seven Sorrows of Mary (Servite Rosary).
URL:https://thegrotto.org/event/daily-mass/2028-03-08/
LOCATION:Chapel of Mary\, 8840 NE Skidmore St\, Portland\, OR\, 97220
CATEGORIES:Daily Mass
END:VEVENT
BEGIN:VEVENT
DTSTART;TZID=America/Los_Angeles:20280309T120000
DTEND;TZID=America/Los_Angeles:20280309T123000
DTSTAMP:20260425T075141
CREATED:20251015T191031Z
LAST-MODIFIED:20251015T191031Z
UID:10000633-1836216000-1836217800@thegrotto.org
SUMMARY:Daily Mass
DESCRIPTION:Daily Mass is celebrated at 12 noon Monday – Saturday in the Chapel of Mary. Daily recitation of the Rosary takes place everyday\, one half hour before each Mass. On Fridays\, we pray the Rosary of the Seven Sorrows of Mary (Servite Rosary).
URL:https://thegrotto.org/event/daily-mass/2028-03-09/
LOCATION:Chapel of Mary\, 8840 NE Skidmore St\, Portland\, OR\, 97220
CATEGORIES:Daily Mass
END:VEVENT
BEGIN:VEVENT
DTSTART;TZID=America/Los_Angeles:20280310T120000
DTEND;TZID=America/Los_Angeles:20280310T123000
DTSTAMP:20260425T075141
CREATED:20251015T191031Z
LAST-MODIFIED:20251015T191031Z
UID:10000634-1836302400-1836304200@thegrotto.org
SUMMARY:Daily Mass
DESCRIPTION:Daily Mass is celebrated at 12 noon Monday – Saturday in the Chapel of Mary. Daily recitation of the Rosary takes place everyday\, one half hour before each Mass. On Fridays\, we pray the Rosary of the Seven Sorrows of Mary (Servite Rosary).
URL:https://thegrotto.org/event/daily-mass/2028-03-10/
LOCATION:Chapel of Mary\, 8840 NE Skidmore St\, Portland\, OR\, 97220
CATEGORIES:Daily Mass
END:VEVENT
BEGIN:VEVENT
DTSTART;TZID=America/Los_Angeles:20280313T120000
DTEND;TZID=America/Los_Angeles:20280313T123000
DTSTAMP:20260425T075141
CREATED:20251015T191031Z
LAST-MODIFIED:20251015T191031Z
UID:10000635-1836561600-1836563400@thegrotto.org
SUMMARY:Daily Mass
DESCRIPTION:Daily Mass is celebrated at 12 noon Monday – Saturday in the Chapel of Mary. Daily recitation of the Rosary takes place everyday\, one half hour before each Mass. On Fridays\, we pray the Rosary of the Seven Sorrows of Mary (Servite Rosary).
URL:https://thegrotto.org/event/daily-mass/2028-03-13/
LOCATION:Chapel of Mary\, 8840 NE Skidmore St\, Portland\, OR\, 97220
CATEGORIES:Daily Mass
END:VEVENT
BEGIN:VEVENT
DTSTART;TZID=America/Los_Angeles:20280314T120000
DTEND;TZID=America/Los_Angeles:20280314T123000
DTSTAMP:20260425T075141
CREATED:20251015T191031Z
LAST-MODIFIED:20251015T191031Z
UID:10000636-1836648000-1836649800@thegrotto.org
SUMMARY:Daily Mass
DESCRIPTION:Daily Mass is celebrated at 12 noon Monday – Saturday in the Chapel of Mary. Daily recitation of the Rosary takes place everyday\, one half hour before each Mass. On Fridays\, we pray the Rosary of the Seven Sorrows of Mary (Servite Rosary).
URL:https://thegrotto.org/event/daily-mass/2028-03-14/
LOCATION:Chapel of Mary\, 8840 NE Skidmore St\, Portland\, OR\, 97220
CATEGORIES:Daily Mass
END:VEVENT
BEGIN:VEVENT
DTSTART;TZID=America/Los_Angeles:20280315T120000
DTEND;TZID=America/Los_Angeles:20280315T123000
DTSTAMP:20260425T075141
CREATED:20251015T191031Z
LAST-MODIFIED:20251015T191031Z
UID:10000637-1836734400-1836736200@thegrotto.org
SUMMARY:Daily Mass
DESCRIPTION:Daily Mass is celebrated at 12 noon Monday – Saturday in the Chapel of Mary. Daily recitation of the Rosary takes place everyday\, one half hour before each Mass. On Fridays\, we pray the Rosary of the Seven Sorrows of Mary (Servite Rosary).
URL:https://thegrotto.org/event/daily-mass/2028-03-15/
LOCATION:Chapel of Mary\, 8840 NE Skidmore St\, Portland\, OR\, 97220
CATEGORIES:Daily Mass
END:VEVENT
BEGIN:VEVENT
DTSTART;TZID=America/Los_Angeles:20280316T120000
DTEND;TZID=America/Los_Angeles:20280316T123000
DTSTAMP:20260425T075141
CREATED:20251015T191031Z
LAST-MODIFIED:20251015T191031Z
UID:10000638-1836820800-1836822600@thegrotto.org
SUMMARY:Daily Mass
DESCRIPTION:Daily Mass is celebrated at 12 noon Monday – Saturday in the Chapel of Mary. Daily recitation of the Rosary takes place everyday\, one half hour before each Mass. On Fridays\, we pray the Rosary of the Seven Sorrows of Mary (Servite Rosary).
URL:https://thegrotto.org/event/daily-mass/2028-03-16/
LOCATION:Chapel of Mary\, 8840 NE Skidmore St\, Portland\, OR\, 97220
CATEGORIES:Daily Mass
END:VEVENT
BEGIN:VEVENT
DTSTART;TZID=America/Los_Angeles:20280317T120000
DTEND;TZID=America/Los_Angeles:20280317T123000
DTSTAMP:20260425T075141
CREATED:20251015T191031Z
LAST-MODIFIED:20251015T191031Z
UID:10000639-1836907200-1836909000@thegrotto.org
SUMMARY:Daily Mass
DESCRIPTION:Daily Mass is celebrated at 12 noon Monday – Saturday in the Chapel of Mary. Daily recitation of the Rosary takes place everyday\, one half hour before each Mass. On Fridays\, we pray the Rosary of the Seven Sorrows of Mary (Servite Rosary).
URL:https://thegrotto.org/event/daily-mass/2028-03-17/
LOCATION:Chapel of Mary\, 8840 NE Skidmore St\, Portland\, OR\, 97220
CATEGORIES:Daily Mass
END:VEVENT
BEGIN:VEVENT
DTSTART;TZID=America/Los_Angeles:20280320T120000
DTEND;TZID=America/Los_Angeles:20280320T123000
DTSTAMP:20260425T075141
CREATED:20251015T191031Z
LAST-MODIFIED:20251015T191031Z
UID:10000640-1837166400-1837168200@thegrotto.org
SUMMARY:Daily Mass
DESCRIPTION:Daily Mass is celebrated at 12 noon Monday – Saturday in the Chapel of Mary. Daily recitation of the Rosary takes place everyday\, one half hour before each Mass. On Fridays\, we pray the Rosary of the Seven Sorrows of Mary (Servite Rosary).
URL:https://thegrotto.org/event/daily-mass/2028-03-20/
LOCATION:Chapel of Mary\, 8840 NE Skidmore St\, Portland\, OR\, 97220
CATEGORIES:Daily Mass
END:VEVENT
BEGIN:VEVENT
DTSTART;TZID=America/Los_Angeles:20280321T120000
DTEND;TZID=America/Los_Angeles:20280321T123000
DTSTAMP:20260425T075141
CREATED:20251015T191031Z
LAST-MODIFIED:20251015T191031Z
UID:10000641-1837252800-1837254600@thegrotto.org
SUMMARY:Daily Mass
DESCRIPTION:Daily Mass is celebrated at 12 noon Monday – Saturday in the Chapel of Mary. Daily recitation of the Rosary takes place everyday\, one half hour before each Mass. On Fridays\, we pray the Rosary of the Seven Sorrows of Mary (Servite Rosary).
URL:https://thegrotto.org/event/daily-mass/2028-03-21/
LOCATION:Chapel of Mary\, 8840 NE Skidmore St\, Portland\, OR\, 97220
CATEGORIES:Daily Mass
END:VEVENT
BEGIN:VEVENT
DTSTART;TZID=America/Los_Angeles:20280322T120000
DTEND;TZID=America/Los_Angeles:20280322T123000
DTSTAMP:20260425T075141
CREATED:20251015T191031Z
LAST-MODIFIED:20251015T191031Z
UID:10000642-1837339200-1837341000@thegrotto.org
SUMMARY:Daily Mass
DESCRIPTION:Daily Mass is celebrated at 12 noon Monday – Saturday in the Chapel of Mary. Daily recitation of the Rosary takes place everyday\, one half hour before each Mass. On Fridays\, we pray the Rosary of the Seven Sorrows of Mary (Servite Rosary).
URL:https://thegrotto.org/event/daily-mass/2028-03-22/
LOCATION:Chapel of Mary\, 8840 NE Skidmore St\, Portland\, OR\, 97220
CATEGORIES:Daily Mass
END:VEVENT
END:VCALENDAR