BEGIN:VCALENDAR
VERSION:2.0
PRODID:-//The National Sanctuary of Our Sorrowful Mother, The Grotto - ECPv6.15.17.1//NONSGML v1.0//EN
CALSCALE:GREGORIAN
METHOD:PUBLISH
X-WR-CALNAME:The National Sanctuary of Our Sorrowful Mother, The Grotto
X-ORIGINAL-URL:https://thegrotto.org
X-WR-CALDESC:Events for The National Sanctuary of Our Sorrowful Mother, The Grotto
REFRESH-INTERVAL;VALUE=DURATION:PT1H
X-Robots-Tag:noindex
X-PUBLISHED-TTL:PT1H
BEGIN:VTIMEZONE
TZID:America/Los_Angeles
BEGIN:DAYLIGHT
TZOFFSETFROM:-0800
TZOFFSETTO:-0700
TZNAME:PDT
DTSTART:20250309T100000
END:DAYLIGHT
BEGIN:STANDARD
TZOFFSETFROM:-0700
TZOFFSETTO:-0800
TZNAME:PST
DTSTART:20251102T090000
END:STANDARD
BEGIN:DAYLIGHT
TZOFFSETFROM:-0800
TZOFFSETTO:-0700
TZNAME:PDT
DTSTART:20260308T100000
END:DAYLIGHT
BEGIN:STANDARD
TZOFFSETFROM:-0700
TZOFFSETTO:-0800
TZNAME:PST
DTSTART:20261101T090000
END:STANDARD
BEGIN:DAYLIGHT
TZOFFSETFROM:-0800
TZOFFSETTO:-0700
TZNAME:PDT
DTSTART:20270314T100000
END:DAYLIGHT
BEGIN:STANDARD
TZOFFSETFROM:-0700
TZOFFSETTO:-0800
TZNAME:PST
DTSTART:20271107T090000
END:STANDARD
END:VTIMEZONE
BEGIN:VEVENT
DTSTART;TZID=America/Los_Angeles:20260221T120000
DTEND;TZID=America/Los_Angeles:20260221T123000
DTSTAMP:20260425T100234
CREATED:20251015T192636Z
LAST-MODIFIED:20251015T192743Z
UID:10002099-1771675200-1771677000@thegrotto.org
SUMMARY:Saturday Mass
DESCRIPTION:Regular Saturday Mass takes place the 2nd\, 3rd\, 4th\, and any 5th Saturday of the month.
URL:https://thegrotto.org/event/saturday-mass/2026-02-21/
LOCATION:Chapel of Mary\, 8840 NE Skidmore St\, Portland\, OR\, 97220
CATEGORIES:Saturday Mass
END:VEVENT
BEGIN:VEVENT
DTSTART;TZID=America/Los_Angeles:20260228T120000
DTEND;TZID=America/Los_Angeles:20260228T123000
DTSTAMP:20260425T100234
CREATED:20251015T192715Z
LAST-MODIFIED:20251015T192715Z
UID:10002219-1772280000-1772281800@thegrotto.org
SUMMARY:Saturday Mass
DESCRIPTION:Regular Saturday Mass takes place the 2nd\, 3rd\, 4th\, and any 5th Saturday of the month.
URL:https://thegrotto.org/event/saturday-mass-2/2026-02-28/
LOCATION:Chapel of Mary\, 8840 NE Skidmore St\, Portland\, OR\, 97220
CATEGORIES:Saturday Mass
END:VEVENT
BEGIN:VEVENT
DTSTART;TZID=America/Los_Angeles:20260307T120000
DTEND;TZID=America/Los_Angeles:20260307T130000
DTSTAMP:20260425T100234
CREATED:20251015T193550Z
LAST-MODIFIED:20251015T193550Z
UID:10002360-1772884800-1772888400@thegrotto.org
SUMMARY:St. Peregrine Mass
DESCRIPTION:This monthly Mass is celebrated on the first Saturday of each month at 12 noon in the Chapel of Mary. In the summer months\, it is celebrated outdoors in the plaza\, weather permitting. At this Mass\, a blessing with the relic of St. Peregrine is offered to those who wish.
URL:https://thegrotto.org/event/st-peregrine-mass/2026-03-07/
LOCATION:The Plaza\, 8840 NE Skidmore St\, Portland\, OR\, 97220\, United States
CATEGORIES:Saturday Mass,St. Peregrine Mass
END:VEVENT
BEGIN:VEVENT
DTSTART;TZID=America/Los_Angeles:20260321T120000
DTEND;TZID=America/Los_Angeles:20260321T123000
DTSTAMP:20260425T100234
CREATED:20251015T192636Z
LAST-MODIFIED:20251015T192743Z
UID:10002100-1774094400-1774096200@thegrotto.org
SUMMARY:Saturday Mass
DESCRIPTION:Regular Saturday Mass takes place the 2nd\, 3rd\, 4th\, and any 5th Saturday of the month.
URL:https://thegrotto.org/event/saturday-mass/2026-03-21/
LOCATION:Chapel of Mary\, 8840 NE Skidmore St\, Portland\, OR\, 97220
CATEGORIES:Saturday Mass
END:VEVENT
BEGIN:VEVENT
DTSTART;TZID=America/Los_Angeles:20260328T120000
DTEND;TZID=America/Los_Angeles:20260328T123000
DTSTAMP:20260425T100234
CREATED:20251015T192715Z
LAST-MODIFIED:20251015T192715Z
UID:10002220-1774699200-1774701000@thegrotto.org
SUMMARY:Saturday Mass
DESCRIPTION:Regular Saturday Mass takes place the 2nd\, 3rd\, 4th\, and any 5th Saturday of the month.
URL:https://thegrotto.org/event/saturday-mass-2/2026-03-28/
LOCATION:Chapel of Mary\, 8840 NE Skidmore St\, Portland\, OR\, 97220
CATEGORIES:Saturday Mass
END:VEVENT
BEGIN:VEVENT
DTSTART;TZID=America/Los_Angeles:20260418T120000
DTEND;TZID=America/Los_Angeles:20260418T123000
DTSTAMP:20260425T100234
CREATED:20251015T192636Z
LAST-MODIFIED:20251015T192743Z
UID:10002101-1776513600-1776515400@thegrotto.org
SUMMARY:Saturday Mass
DESCRIPTION:Regular Saturday Mass takes place the 2nd\, 3rd\, 4th\, and any 5th Saturday of the month.
URL:https://thegrotto.org/event/saturday-mass/2026-04-18/
LOCATION:Chapel of Mary\, 8840 NE Skidmore St\, Portland\, OR\, 97220
CATEGORIES:Saturday Mass
END:VEVENT
BEGIN:VEVENT
DTSTART;TZID=America/Los_Angeles:20260425T120000
DTEND;TZID=America/Los_Angeles:20260425T123000
DTSTAMP:20260425T100234
CREATED:20251015T192715Z
LAST-MODIFIED:20251015T192715Z
UID:10002221-1777118400-1777120200@thegrotto.org
SUMMARY:Saturday Mass
DESCRIPTION:Regular Saturday Mass takes place the 2nd\, 3rd\, 4th\, and any 5th Saturday of the month.
URL:https://thegrotto.org/event/saturday-mass-2/2026-04-25/
LOCATION:Chapel of Mary\, 8840 NE Skidmore St\, Portland\, OR\, 97220
CATEGORIES:Saturday Mass
END:VEVENT
BEGIN:VEVENT
DTSTART;TZID=America/Los_Angeles:20260502T120000
DTEND;TZID=America/Los_Angeles:20260502T130000
DTSTAMP:20260425T100234
CREATED:20251015T193550Z
LAST-MODIFIED:20251015T193550Z
UID:10002362-1777723200-1777726800@thegrotto.org
SUMMARY:St. Peregrine Mass
DESCRIPTION:This monthly Mass is celebrated on the first Saturday of each month at 12 noon in the Chapel of Mary. In the summer months\, it is celebrated outdoors in the plaza\, weather permitting. At this Mass\, a blessing with the relic of St. Peregrine is offered to those who wish.
URL:https://thegrotto.org/event/st-peregrine-mass/2026-05-02/
LOCATION:The Plaza\, 8840 NE Skidmore St\, Portland\, OR\, 97220\, United States
CATEGORIES:Saturday Mass,St. Peregrine Mass
END:VEVENT
BEGIN:VEVENT
DTSTART;TZID=America/Los_Angeles:20260516T120000
DTEND;TZID=America/Los_Angeles:20260516T123000
DTSTAMP:20260425T100234
CREATED:20251015T192636Z
LAST-MODIFIED:20251015T192743Z
UID:10002102-1778932800-1778934600@thegrotto.org
SUMMARY:Saturday Mass
DESCRIPTION:Regular Saturday Mass takes place the 2nd\, 3rd\, 4th\, and any 5th Saturday of the month.
URL:https://thegrotto.org/event/saturday-mass/2026-05-16/
LOCATION:Chapel of Mary\, 8840 NE Skidmore St\, Portland\, OR\, 97220
CATEGORIES:Saturday Mass
END:VEVENT
BEGIN:VEVENT
DTSTART;TZID=America/Los_Angeles:20260523T120000
DTEND;TZID=America/Los_Angeles:20260523T123000
DTSTAMP:20260425T100234
CREATED:20251015T192715Z
LAST-MODIFIED:20251015T192715Z
UID:10002222-1779537600-1779539400@thegrotto.org
SUMMARY:Saturday Mass
DESCRIPTION:Regular Saturday Mass takes place the 2nd\, 3rd\, 4th\, and any 5th Saturday of the month.
URL:https://thegrotto.org/event/saturday-mass-2/2026-05-23/
LOCATION:Chapel of Mary\, 8840 NE Skidmore St\, Portland\, OR\, 97220
CATEGORIES:Saturday Mass
END:VEVENT
BEGIN:VEVENT
DTSTART;TZID=America/Los_Angeles:20260530T120000
DTEND;TZID=America/Los_Angeles:20260530T123000
DTSTAMP:20260425T100234
CREATED:20251015T193235Z
LAST-MODIFIED:20251015T193319Z
UID:10002337-1780142400-1780144200@thegrotto.org
SUMMARY:Saturday Mass
DESCRIPTION:Regular Saturday Mass takes place the 2nd\, 3rd\, 4th\, and any 5th Saturday of the month.
URL:https://thegrotto.org/event/saturday-mass-3/2026-05-30/
LOCATION:Chapel of Mary\, 8840 NE Skidmore St\, Portland\, OR\, 97220
CATEGORIES:Saturday Mass
END:VEVENT
BEGIN:VEVENT
DTSTART;TZID=America/Los_Angeles:20260606T120000
DTEND;TZID=America/Los_Angeles:20260606T130000
DTSTAMP:20260425T100234
CREATED:20251015T193550Z
LAST-MODIFIED:20251015T193550Z
UID:10002363-1780747200-1780750800@thegrotto.org
SUMMARY:St. Peregrine Mass
DESCRIPTION:This monthly Mass is celebrated on the first Saturday of each month at 12 noon in the Chapel of Mary. In the summer months\, it is celebrated outdoors in the plaza\, weather permitting. At this Mass\, a blessing with the relic of St. Peregrine is offered to those who wish.
URL:https://thegrotto.org/event/st-peregrine-mass/2026-06-06/
LOCATION:The Plaza\, 8840 NE Skidmore St\, Portland\, OR\, 97220\, United States
CATEGORIES:Saturday Mass,St. Peregrine Mass
END:VEVENT
BEGIN:VEVENT
DTSTART;TZID=America/Los_Angeles:20260620T120000
DTEND;TZID=America/Los_Angeles:20260620T123000
DTSTAMP:20260425T100234
CREATED:20251015T192636Z
LAST-MODIFIED:20251015T192743Z
UID:10002103-1781956800-1781958600@thegrotto.org
SUMMARY:Saturday Mass
DESCRIPTION:Regular Saturday Mass takes place the 2nd\, 3rd\, 4th\, and any 5th Saturday of the month.
URL:https://thegrotto.org/event/saturday-mass/2026-06-20/
LOCATION:Chapel of Mary\, 8840 NE Skidmore St\, Portland\, OR\, 97220
CATEGORIES:Saturday Mass
END:VEVENT
BEGIN:VEVENT
DTSTART;TZID=America/Los_Angeles:20260627T120000
DTEND;TZID=America/Los_Angeles:20260627T123000
DTSTAMP:20260425T100234
CREATED:20251015T192715Z
LAST-MODIFIED:20251015T192715Z
UID:10002223-1782561600-1782563400@thegrotto.org
SUMMARY:Saturday Mass
DESCRIPTION:Regular Saturday Mass takes place the 2nd\, 3rd\, 4th\, and any 5th Saturday of the month.
URL:https://thegrotto.org/event/saturday-mass-2/2026-06-27/
LOCATION:Chapel of Mary\, 8840 NE Skidmore St\, Portland\, OR\, 97220
CATEGORIES:Saturday Mass
END:VEVENT
BEGIN:VEVENT
DTSTART;TZID=America/Los_Angeles:20260704T120000
DTEND;TZID=America/Los_Angeles:20260704T130000
DTSTAMP:20260425T100235
CREATED:20251015T193550Z
LAST-MODIFIED:20251015T193550Z
UID:10002364-1783166400-1783170000@thegrotto.org
SUMMARY:St. Peregrine Mass
DESCRIPTION:This monthly Mass is celebrated on the first Saturday of each month at 12 noon in the Chapel of Mary. In the summer months\, it is celebrated outdoors in the plaza\, weather permitting. At this Mass\, a blessing with the relic of St. Peregrine is offered to those who wish.
URL:https://thegrotto.org/event/st-peregrine-mass/2026-07-04/
LOCATION:The Plaza\, 8840 NE Skidmore St\, Portland\, OR\, 97220\, United States
CATEGORIES:Saturday Mass,St. Peregrine Mass
END:VEVENT
BEGIN:VEVENT
DTSTART;TZID=America/Los_Angeles:20260718T120000
DTEND;TZID=America/Los_Angeles:20260718T123000
DTSTAMP:20260425T100235
CREATED:20251015T192636Z
LAST-MODIFIED:20251015T192743Z
UID:10002104-1784376000-1784377800@thegrotto.org
SUMMARY:Saturday Mass
DESCRIPTION:Regular Saturday Mass takes place the 2nd\, 3rd\, 4th\, and any 5th Saturday of the month.
URL:https://thegrotto.org/event/saturday-mass/2026-07-18/
LOCATION:Chapel of Mary\, 8840 NE Skidmore St\, Portland\, OR\, 97220
CATEGORIES:Saturday Mass
END:VEVENT
BEGIN:VEVENT
DTSTART;TZID=America/Los_Angeles:20260725T120000
DTEND;TZID=America/Los_Angeles:20260725T123000
DTSTAMP:20260425T100235
CREATED:20251015T192715Z
LAST-MODIFIED:20251015T192715Z
UID:10002224-1784980800-1784982600@thegrotto.org
SUMMARY:Saturday Mass
DESCRIPTION:Regular Saturday Mass takes place the 2nd\, 3rd\, 4th\, and any 5th Saturday of the month.
URL:https://thegrotto.org/event/saturday-mass-2/2026-07-25/
LOCATION:Chapel of Mary\, 8840 NE Skidmore St\, Portland\, OR\, 97220
CATEGORIES:Saturday Mass
END:VEVENT
BEGIN:VEVENT
DTSTART;TZID=America/Los_Angeles:20260801T120000
DTEND;TZID=America/Los_Angeles:20260801T130000
DTSTAMP:20260425T100235
CREATED:20251015T193550Z
LAST-MODIFIED:20251015T193550Z
UID:10002365-1785585600-1785589200@thegrotto.org
SUMMARY:St. Peregrine Mass
DESCRIPTION:This monthly Mass is celebrated on the first Saturday of each month at 12 noon in the Chapel of Mary. In the summer months\, it is celebrated outdoors in the plaza\, weather permitting. At this Mass\, a blessing with the relic of St. Peregrine is offered to those who wish.
URL:https://thegrotto.org/event/st-peregrine-mass/2026-08-01/
LOCATION:The Plaza\, 8840 NE Skidmore St\, Portland\, OR\, 97220\, United States
CATEGORIES:Saturday Mass,St. Peregrine Mass
END:VEVENT
BEGIN:VEVENT
DTSTART;TZID=America/Los_Angeles:20260815T120000
DTEND;TZID=America/Los_Angeles:20260815T123000
DTSTAMP:20260425T100235
CREATED:20251015T192636Z
LAST-MODIFIED:20251015T192743Z
UID:10002105-1786795200-1786797000@thegrotto.org
SUMMARY:Saturday Mass
DESCRIPTION:Regular Saturday Mass takes place the 2nd\, 3rd\, 4th\, and any 5th Saturday of the month.
URL:https://thegrotto.org/event/saturday-mass/2026-08-15/
LOCATION:Chapel of Mary\, 8840 NE Skidmore St\, Portland\, OR\, 97220
CATEGORIES:Saturday Mass
END:VEVENT
BEGIN:VEVENT
DTSTART;TZID=America/Los_Angeles:20260822T120000
DTEND;TZID=America/Los_Angeles:20260822T123000
DTSTAMP:20260425T100235
CREATED:20251015T192715Z
LAST-MODIFIED:20251015T192715Z
UID:10002225-1787400000-1787401800@thegrotto.org
SUMMARY:Saturday Mass
DESCRIPTION:Regular Saturday Mass takes place the 2nd\, 3rd\, 4th\, and any 5th Saturday of the month.
URL:https://thegrotto.org/event/saturday-mass-2/2026-08-22/
LOCATION:Chapel of Mary\, 8840 NE Skidmore St\, Portland\, OR\, 97220
CATEGORIES:Saturday Mass
END:VEVENT
BEGIN:VEVENT
DTSTART;TZID=America/Los_Angeles:20260829T120000
DTEND;TZID=America/Los_Angeles:20260829T123000
DTSTAMP:20260425T100235
CREATED:20251015T193235Z
LAST-MODIFIED:20251015T193319Z
UID:10002338-1788004800-1788006600@thegrotto.org
SUMMARY:Saturday Mass
DESCRIPTION:Regular Saturday Mass takes place the 2nd\, 3rd\, 4th\, and any 5th Saturday of the month.
URL:https://thegrotto.org/event/saturday-mass-3/2026-08-29/
LOCATION:Chapel of Mary\, 8840 NE Skidmore St\, Portland\, OR\, 97220
CATEGORIES:Saturday Mass
END:VEVENT
BEGIN:VEVENT
DTSTART;TZID=America/Los_Angeles:20260905T120000
DTEND;TZID=America/Los_Angeles:20260905T130000
DTSTAMP:20260425T100235
CREATED:20251015T193550Z
LAST-MODIFIED:20251015T193550Z
UID:10002366-1788609600-1788613200@thegrotto.org
SUMMARY:St. Peregrine Mass
DESCRIPTION:This monthly Mass is celebrated on the first Saturday of each month at 12 noon in the Chapel of Mary. In the summer months\, it is celebrated outdoors in the plaza\, weather permitting. At this Mass\, a blessing with the relic of St. Peregrine is offered to those who wish.
URL:https://thegrotto.org/event/st-peregrine-mass/2026-09-05/
LOCATION:The Plaza\, 8840 NE Skidmore St\, Portland\, OR\, 97220\, United States
CATEGORIES:Saturday Mass,St. Peregrine Mass
END:VEVENT
BEGIN:VEVENT
DTSTART;TZID=America/Los_Angeles:20260919T120000
DTEND;TZID=America/Los_Angeles:20260919T123000
DTSTAMP:20260425T100235
CREATED:20251015T192636Z
LAST-MODIFIED:20251015T192743Z
UID:10002106-1789819200-1789821000@thegrotto.org
SUMMARY:Saturday Mass
DESCRIPTION:Regular Saturday Mass takes place the 2nd\, 3rd\, 4th\, and any 5th Saturday of the month.
URL:https://thegrotto.org/event/saturday-mass/2026-09-19/
LOCATION:Chapel of Mary\, 8840 NE Skidmore St\, Portland\, OR\, 97220
CATEGORIES:Saturday Mass
END:VEVENT
BEGIN:VEVENT
DTSTART;TZID=America/Los_Angeles:20260926T120000
DTEND;TZID=America/Los_Angeles:20260926T123000
DTSTAMP:20260425T100235
CREATED:20251015T192715Z
LAST-MODIFIED:20251015T192715Z
UID:10002226-1790424000-1790425800@thegrotto.org
SUMMARY:Saturday Mass
DESCRIPTION:Regular Saturday Mass takes place the 2nd\, 3rd\, 4th\, and any 5th Saturday of the month.
URL:https://thegrotto.org/event/saturday-mass-2/2026-09-26/
LOCATION:Chapel of Mary\, 8840 NE Skidmore St\, Portland\, OR\, 97220
CATEGORIES:Saturday Mass
END:VEVENT
BEGIN:VEVENT
DTSTART;TZID=America/Los_Angeles:20261003T120000
DTEND;TZID=America/Los_Angeles:20261003T130000
DTSTAMP:20260425T100235
CREATED:20251015T193550Z
LAST-MODIFIED:20251015T193550Z
UID:10002367-1791028800-1791032400@thegrotto.org
SUMMARY:St. Peregrine Mass
DESCRIPTION:This monthly Mass is celebrated on the first Saturday of each month at 12 noon in the Chapel of Mary. In the summer months\, it is celebrated outdoors in the plaza\, weather permitting. At this Mass\, a blessing with the relic of St. Peregrine is offered to those who wish.
URL:https://thegrotto.org/event/st-peregrine-mass/2026-10-03/
LOCATION:The Plaza\, 8840 NE Skidmore St\, Portland\, OR\, 97220\, United States
CATEGORIES:Saturday Mass,St. Peregrine Mass
END:VEVENT
BEGIN:VEVENT
DTSTART;TZID=America/Los_Angeles:20261017T120000
DTEND;TZID=America/Los_Angeles:20261017T123000
DTSTAMP:20260425T100235
CREATED:20251015T192636Z
LAST-MODIFIED:20251015T192743Z
UID:10002107-1792238400-1792240200@thegrotto.org
SUMMARY:Saturday Mass
DESCRIPTION:Regular Saturday Mass takes place the 2nd\, 3rd\, 4th\, and any 5th Saturday of the month.
URL:https://thegrotto.org/event/saturday-mass/2026-10-17/
LOCATION:Chapel of Mary\, 8840 NE Skidmore St\, Portland\, OR\, 97220
CATEGORIES:Saturday Mass
END:VEVENT
BEGIN:VEVENT
DTSTART;TZID=America/Los_Angeles:20261024T120000
DTEND;TZID=America/Los_Angeles:20261024T123000
DTSTAMP:20260425T100235
CREATED:20251015T192715Z
LAST-MODIFIED:20251015T192715Z
UID:10002227-1792843200-1792845000@thegrotto.org
SUMMARY:Saturday Mass
DESCRIPTION:Regular Saturday Mass takes place the 2nd\, 3rd\, 4th\, and any 5th Saturday of the month.
URL:https://thegrotto.org/event/saturday-mass-2/2026-10-24/
LOCATION:Chapel of Mary\, 8840 NE Skidmore St\, Portland\, OR\, 97220
CATEGORIES:Saturday Mass
END:VEVENT
BEGIN:VEVENT
DTSTART;TZID=America/Los_Angeles:20261031T120000
DTEND;TZID=America/Los_Angeles:20261031T123000
DTSTAMP:20260425T100235
CREATED:20251015T193235Z
LAST-MODIFIED:20251015T193319Z
UID:10002339-1793448000-1793449800@thegrotto.org
SUMMARY:Saturday Mass
DESCRIPTION:Regular Saturday Mass takes place the 2nd\, 3rd\, 4th\, and any 5th Saturday of the month.
URL:https://thegrotto.org/event/saturday-mass-3/2026-10-31/
LOCATION:Chapel of Mary\, 8840 NE Skidmore St\, Portland\, OR\, 97220
CATEGORIES:Saturday Mass
END:VEVENT
BEGIN:VEVENT
DTSTART;TZID=America/Los_Angeles:20261107T120000
DTEND;TZID=America/Los_Angeles:20261107T130000
DTSTAMP:20260425T100235
CREATED:20251015T193550Z
LAST-MODIFIED:20251015T193550Z
UID:10002368-1794052800-1794056400@thegrotto.org
SUMMARY:St. Peregrine Mass
DESCRIPTION:This monthly Mass is celebrated on the first Saturday of each month at 12 noon in the Chapel of Mary. In the summer months\, it is celebrated outdoors in the plaza\, weather permitting. At this Mass\, a blessing with the relic of St. Peregrine is offered to those who wish.
URL:https://thegrotto.org/event/st-peregrine-mass/2026-11-07/
LOCATION:The Plaza\, 8840 NE Skidmore St\, Portland\, OR\, 97220\, United States
CATEGORIES:Saturday Mass,St. Peregrine Mass
END:VEVENT
BEGIN:VEVENT
DTSTART;TZID=America/Los_Angeles:20261121T120000
DTEND;TZID=America/Los_Angeles:20261121T123000
DTSTAMP:20260425T100235
CREATED:20251015T192636Z
LAST-MODIFIED:20251015T192743Z
UID:10002108-1795262400-1795264200@thegrotto.org
SUMMARY:Saturday Mass
DESCRIPTION:Regular Saturday Mass takes place the 2nd\, 3rd\, 4th\, and any 5th Saturday of the month.
URL:https://thegrotto.org/event/saturday-mass/2026-11-21/
LOCATION:Chapel of Mary\, 8840 NE Skidmore St\, Portland\, OR\, 97220
CATEGORIES:Saturday Mass
END:VEVENT
END:VCALENDAR