BEGIN:VCALENDAR
VERSION:2.0
PRODID:-//The National Sanctuary of Our Sorrowful Mother, The Grotto - ECPv6.15.17.1//NONSGML v1.0//EN
CALSCALE:GREGORIAN
METHOD:PUBLISH
X-WR-CALNAME:The National Sanctuary of Our Sorrowful Mother, The Grotto
X-ORIGINAL-URL:https://thegrotto.org
X-WR-CALDESC:Events for The National Sanctuary of Our Sorrowful Mother, The Grotto
REFRESH-INTERVAL;VALUE=DURATION:PT1H
X-Robots-Tag:noindex
X-PUBLISHED-TTL:PT1H
BEGIN:VTIMEZONE
TZID:America/Los_Angeles
BEGIN:DAYLIGHT
TZOFFSETFROM:-0800
TZOFFSETTO:-0700
TZNAME:PDT
DTSTART:20260308T100000
END:DAYLIGHT
BEGIN:STANDARD
TZOFFSETFROM:-0700
TZOFFSETTO:-0800
TZNAME:PST
DTSTART:20261101T090000
END:STANDARD
BEGIN:DAYLIGHT
TZOFFSETFROM:-0800
TZOFFSETTO:-0700
TZNAME:PDT
DTSTART:20270314T100000
END:DAYLIGHT
BEGIN:STANDARD
TZOFFSETFROM:-0700
TZOFFSETTO:-0800
TZNAME:PST
DTSTART:20271107T090000
END:STANDARD
BEGIN:DAYLIGHT
TZOFFSETFROM:-0800
TZOFFSETTO:-0700
TZNAME:PDT
DTSTART:20280312T100000
END:DAYLIGHT
BEGIN:STANDARD
TZOFFSETFROM:-0700
TZOFFSETTO:-0800
TZNAME:PST
DTSTART:20281105T090000
END:STANDARD
END:VTIMEZONE
BEGIN:VEVENT
DTSTART;TZID=America/Los_Angeles:20271111T120000
DTEND;TZID=America/Los_Angeles:20271111T123000
DTSTAMP:20260425T165103
CREATED:20251015T191031Z
LAST-MODIFIED:20251015T191031Z
UID:10000548-1825934400-1825936200@thegrotto.org
SUMMARY:Daily Mass
DESCRIPTION:Daily Mass is celebrated at 12 noon Monday – Saturday in the Chapel of Mary. Daily recitation of the Rosary takes place everyday\, one half hour before each Mass. On Fridays\, we pray the Rosary of the Seven Sorrows of Mary (Servite Rosary).
URL:https://thegrotto.org/event/daily-mass/2027-11-11/
LOCATION:Chapel of Mary\, 8840 NE Skidmore St\, Portland\, OR\, 97220
CATEGORIES:Daily Mass
END:VEVENT
BEGIN:VEVENT
DTSTART;TZID=America/Los_Angeles:20271112T120000
DTEND;TZID=America/Los_Angeles:20271112T123000
DTSTAMP:20260425T165103
CREATED:20251015T191031Z
LAST-MODIFIED:20251015T191031Z
UID:10000549-1826020800-1826022600@thegrotto.org
SUMMARY:Daily Mass
DESCRIPTION:Daily Mass is celebrated at 12 noon Monday – Saturday in the Chapel of Mary. Daily recitation of the Rosary takes place everyday\, one half hour before each Mass. On Fridays\, we pray the Rosary of the Seven Sorrows of Mary (Servite Rosary).
URL:https://thegrotto.org/event/daily-mass/2027-11-12/
LOCATION:Chapel of Mary\, 8840 NE Skidmore St\, Portland\, OR\, 97220
CATEGORIES:Daily Mass
END:VEVENT
BEGIN:VEVENT
DTSTART;TZID=America/Los_Angeles:20271114T080000
DTEND;TZID=America/Los_Angeles:20271114T090000
DTSTAMP:20260425T165103
CREATED:20251015T191455Z
LAST-MODIFIED:20251015T191650Z
UID:10001420-1826179200-1826182800@thegrotto.org
SUMMARY:Sunday Mass (8am)
DESCRIPTION:Sunday Mass is celebrated at 8 a.m.\, 10 a.m.\, and 12 noon in the Chapel of Mary.
URL:https://thegrotto.org/event/sunday-mass-8am/2027-11-14/
LOCATION:Chapel of Mary\, 8840 NE Skidmore St\, Portland\, OR\, 97220
CATEGORIES:Sunday Mass
END:VEVENT
BEGIN:VEVENT
DTSTART;TZID=America/Los_Angeles:20271114T100000
DTEND;TZID=America/Los_Angeles:20271114T110000
DTSTAMP:20260425T165103
CREATED:20251015T191543Z
LAST-MODIFIED:20251015T191636Z
UID:10001681-1826186400-1826190000@thegrotto.org
SUMMARY:Sunday Mass (10am)
DESCRIPTION:Sunday Mass is celebrated at 8 a.m.\, 10 a.m.\, and 12 noon in the Chapel of Mary.
URL:https://thegrotto.org/event/sunday-mass-10am/2027-11-14/
LOCATION:Chapel of Mary\, 8840 NE Skidmore St\, Portland\, OR\, 97220
CATEGORIES:Sunday Mass
END:VEVENT
BEGIN:VEVENT
DTSTART;TZID=America/Los_Angeles:20271114T120000
DTEND;TZID=America/Los_Angeles:20271114T130000
DTSTAMP:20260425T165103
CREATED:20251015T191731Z
LAST-MODIFIED:20251015T191731Z
UID:10001942-1826193600-1826197200@thegrotto.org
SUMMARY:Sunday Mass (12 noon)
DESCRIPTION:Sunday Mass is celebrated at 8 a.m.\, 10 a.m.\, and 12 noon in the Chapel of Mary.
URL:https://thegrotto.org/event/sunday-mass-12-noon/2027-11-14/
LOCATION:Chapel of Mary\, 8840 NE Skidmore St\, Portland\, OR\, 97220
CATEGORIES:Sunday Mass
END:VEVENT
BEGIN:VEVENT
DTSTART;TZID=America/Los_Angeles:20271115T120000
DTEND;TZID=America/Los_Angeles:20271115T123000
DTSTAMP:20260425T165103
CREATED:20251015T191031Z
LAST-MODIFIED:20251015T191031Z
UID:10000550-1826280000-1826281800@thegrotto.org
SUMMARY:Daily Mass
DESCRIPTION:Daily Mass is celebrated at 12 noon Monday – Saturday in the Chapel of Mary. Daily recitation of the Rosary takes place everyday\, one half hour before each Mass. On Fridays\, we pray the Rosary of the Seven Sorrows of Mary (Servite Rosary).
URL:https://thegrotto.org/event/daily-mass/2027-11-15/
LOCATION:Chapel of Mary\, 8840 NE Skidmore St\, Portland\, OR\, 97220
CATEGORIES:Daily Mass
END:VEVENT
BEGIN:VEVENT
DTSTART;TZID=America/Los_Angeles:20271116T120000
DTEND;TZID=America/Los_Angeles:20271116T123000
DTSTAMP:20260425T165103
CREATED:20251015T191031Z
LAST-MODIFIED:20251015T191031Z
UID:10000551-1826366400-1826368200@thegrotto.org
SUMMARY:Daily Mass
DESCRIPTION:Daily Mass is celebrated at 12 noon Monday – Saturday in the Chapel of Mary. Daily recitation of the Rosary takes place everyday\, one half hour before each Mass. On Fridays\, we pray the Rosary of the Seven Sorrows of Mary (Servite Rosary).
URL:https://thegrotto.org/event/daily-mass/2027-11-16/
LOCATION:Chapel of Mary\, 8840 NE Skidmore St\, Portland\, OR\, 97220
CATEGORIES:Daily Mass
END:VEVENT
BEGIN:VEVENT
DTSTART;TZID=America/Los_Angeles:20271117T120000
DTEND;TZID=America/Los_Angeles:20271117T123000
DTSTAMP:20260425T165103
CREATED:20251015T191031Z
LAST-MODIFIED:20251015T191031Z
UID:10000552-1826452800-1826454600@thegrotto.org
SUMMARY:Daily Mass
DESCRIPTION:Daily Mass is celebrated at 12 noon Monday – Saturday in the Chapel of Mary. Daily recitation of the Rosary takes place everyday\, one half hour before each Mass. On Fridays\, we pray the Rosary of the Seven Sorrows of Mary (Servite Rosary).
URL:https://thegrotto.org/event/daily-mass/2027-11-17/
LOCATION:Chapel of Mary\, 8840 NE Skidmore St\, Portland\, OR\, 97220
CATEGORIES:Daily Mass
END:VEVENT
BEGIN:VEVENT
DTSTART;TZID=America/Los_Angeles:20271118T120000
DTEND;TZID=America/Los_Angeles:20271118T123000
DTSTAMP:20260425T165103
CREATED:20251015T191031Z
LAST-MODIFIED:20251015T191031Z
UID:10000553-1826539200-1826541000@thegrotto.org
SUMMARY:Daily Mass
DESCRIPTION:Daily Mass is celebrated at 12 noon Monday – Saturday in the Chapel of Mary. Daily recitation of the Rosary takes place everyday\, one half hour before each Mass. On Fridays\, we pray the Rosary of the Seven Sorrows of Mary (Servite Rosary).
URL:https://thegrotto.org/event/daily-mass/2027-11-18/
LOCATION:Chapel of Mary\, 8840 NE Skidmore St\, Portland\, OR\, 97220
CATEGORIES:Daily Mass
END:VEVENT
BEGIN:VEVENT
DTSTART;TZID=America/Los_Angeles:20271119T120000
DTEND;TZID=America/Los_Angeles:20271119T123000
DTSTAMP:20260425T165103
CREATED:20251015T191031Z
LAST-MODIFIED:20251015T191031Z
UID:10000554-1826625600-1826627400@thegrotto.org
SUMMARY:Daily Mass
DESCRIPTION:Daily Mass is celebrated at 12 noon Monday – Saturday in the Chapel of Mary. Daily recitation of the Rosary takes place everyday\, one half hour before each Mass. On Fridays\, we pray the Rosary of the Seven Sorrows of Mary (Servite Rosary).
URL:https://thegrotto.org/event/daily-mass/2027-11-19/
LOCATION:Chapel of Mary\, 8840 NE Skidmore St\, Portland\, OR\, 97220
CATEGORIES:Daily Mass
END:VEVENT
BEGIN:VEVENT
DTSTART;TZID=America/Los_Angeles:20271120T120000
DTEND;TZID=America/Los_Angeles:20271120T123000
DTSTAMP:20260425T165103
CREATED:20251015T192636Z
LAST-MODIFIED:20251015T192743Z
UID:10002120-1826712000-1826713800@thegrotto.org
SUMMARY:Saturday Mass
DESCRIPTION:Regular Saturday Mass takes place the 2nd\, 3rd\, 4th\, and any 5th Saturday of the month.
URL:https://thegrotto.org/event/saturday-mass/2027-11-20/
LOCATION:Chapel of Mary\, 8840 NE Skidmore St\, Portland\, OR\, 97220
CATEGORIES:Saturday Mass
END:VEVENT
BEGIN:VEVENT
DTSTART;TZID=America/Los_Angeles:20271121T080000
DTEND;TZID=America/Los_Angeles:20271121T090000
DTSTAMP:20260425T165103
CREATED:20251015T191455Z
LAST-MODIFIED:20251015T191650Z
UID:10001421-1826784000-1826787600@thegrotto.org
SUMMARY:Sunday Mass (8am)
DESCRIPTION:Sunday Mass is celebrated at 8 a.m.\, 10 a.m.\, and 12 noon in the Chapel of Mary.
URL:https://thegrotto.org/event/sunday-mass-8am/2027-11-21/
LOCATION:Chapel of Mary\, 8840 NE Skidmore St\, Portland\, OR\, 97220
CATEGORIES:Sunday Mass
END:VEVENT
BEGIN:VEVENT
DTSTART;TZID=America/Los_Angeles:20271121T100000
DTEND;TZID=America/Los_Angeles:20271121T110000
DTSTAMP:20260425T165103
CREATED:20251015T191543Z
LAST-MODIFIED:20251015T191636Z
UID:10001682-1826791200-1826794800@thegrotto.org
SUMMARY:Sunday Mass (10am)
DESCRIPTION:Sunday Mass is celebrated at 8 a.m.\, 10 a.m.\, and 12 noon in the Chapel of Mary.
URL:https://thegrotto.org/event/sunday-mass-10am/2027-11-21/
LOCATION:Chapel of Mary\, 8840 NE Skidmore St\, Portland\, OR\, 97220
CATEGORIES:Sunday Mass
END:VEVENT
BEGIN:VEVENT
DTSTART;TZID=America/Los_Angeles:20271121T120000
DTEND;TZID=America/Los_Angeles:20271121T130000
DTSTAMP:20260425T165103
CREATED:20251015T191731Z
LAST-MODIFIED:20251015T191731Z
UID:10001943-1826798400-1826802000@thegrotto.org
SUMMARY:Sunday Mass (12 noon)
DESCRIPTION:Sunday Mass is celebrated at 8 a.m.\, 10 a.m.\, and 12 noon in the Chapel of Mary.
URL:https://thegrotto.org/event/sunday-mass-12-noon/2027-11-21/
LOCATION:Chapel of Mary\, 8840 NE Skidmore St\, Portland\, OR\, 97220
CATEGORIES:Sunday Mass
END:VEVENT
BEGIN:VEVENT
DTSTART;TZID=America/Los_Angeles:20271121T140000
DTEND;TZID=America/Los_Angeles:20271121T150000
DTSTAMP:20260425T165103
CREATED:20251015T193721Z
LAST-MODIFIED:20251015T193721Z
UID:10002441-1826805600-1826809200@thegrotto.org
SUMMARY:Filipino Mass
DESCRIPTION:This Mass is celebrated on the first and third Sunday of each month at 2 p.m. in the Chapel of Mary.
URL:https://thegrotto.org/event/filipino-mass/2027-11-21/
LOCATION:Chapel of Mary\, 8840 NE Skidmore St\, Portland\, OR\, 97220
CATEGORIES:Filipino Mass,Sunday Mass
END:VEVENT
BEGIN:VEVENT
DTSTART;TZID=America/Los_Angeles:20271122T120000
DTEND;TZID=America/Los_Angeles:20271122T123000
DTSTAMP:20260425T165103
CREATED:20251015T191031Z
LAST-MODIFIED:20251015T191031Z
UID:10000555-1826884800-1826886600@thegrotto.org
SUMMARY:Daily Mass
DESCRIPTION:Daily Mass is celebrated at 12 noon Monday – Saturday in the Chapel of Mary. Daily recitation of the Rosary takes place everyday\, one half hour before each Mass. On Fridays\, we pray the Rosary of the Seven Sorrows of Mary (Servite Rosary).
URL:https://thegrotto.org/event/daily-mass/2027-11-22/
LOCATION:Chapel of Mary\, 8840 NE Skidmore St\, Portland\, OR\, 97220
CATEGORIES:Daily Mass
END:VEVENT
BEGIN:VEVENT
DTSTART;TZID=America/Los_Angeles:20271123T120000
DTEND;TZID=America/Los_Angeles:20271123T123000
DTSTAMP:20260425T165103
CREATED:20251015T191031Z
LAST-MODIFIED:20251015T191031Z
UID:10000556-1826971200-1826973000@thegrotto.org
SUMMARY:Daily Mass
DESCRIPTION:Daily Mass is celebrated at 12 noon Monday – Saturday in the Chapel of Mary. Daily recitation of the Rosary takes place everyday\, one half hour before each Mass. On Fridays\, we pray the Rosary of the Seven Sorrows of Mary (Servite Rosary).
URL:https://thegrotto.org/event/daily-mass/2027-11-23/
LOCATION:Chapel of Mary\, 8840 NE Skidmore St\, Portland\, OR\, 97220
CATEGORIES:Daily Mass
END:VEVENT
BEGIN:VEVENT
DTSTART;TZID=America/Los_Angeles:20271124T120000
DTEND;TZID=America/Los_Angeles:20271124T123000
DTSTAMP:20260425T165103
CREATED:20251015T191031Z
LAST-MODIFIED:20251015T191031Z
UID:10000557-1827057600-1827059400@thegrotto.org
SUMMARY:Daily Mass
DESCRIPTION:Daily Mass is celebrated at 12 noon Monday – Saturday in the Chapel of Mary. Daily recitation of the Rosary takes place everyday\, one half hour before each Mass. On Fridays\, we pray the Rosary of the Seven Sorrows of Mary (Servite Rosary).
URL:https://thegrotto.org/event/daily-mass/2027-11-24/
LOCATION:Chapel of Mary\, 8840 NE Skidmore St\, Portland\, OR\, 97220
CATEGORIES:Daily Mass
END:VEVENT
BEGIN:VEVENT
DTSTART;TZID=America/Los_Angeles:20271125T120000
DTEND;TZID=America/Los_Angeles:20271125T123000
DTSTAMP:20260425T165103
CREATED:20251015T191031Z
LAST-MODIFIED:20251015T191031Z
UID:10000558-1827144000-1827145800@thegrotto.org
SUMMARY:Daily Mass
DESCRIPTION:Daily Mass is celebrated at 12 noon Monday – Saturday in the Chapel of Mary. Daily recitation of the Rosary takes place everyday\, one half hour before each Mass. On Fridays\, we pray the Rosary of the Seven Sorrows of Mary (Servite Rosary).
URL:https://thegrotto.org/event/daily-mass/2027-11-25/
LOCATION:Chapel of Mary\, 8840 NE Skidmore St\, Portland\, OR\, 97220
CATEGORIES:Daily Mass
END:VEVENT
BEGIN:VEVENT
DTSTART;TZID=America/Los_Angeles:20271126T120000
DTEND;TZID=America/Los_Angeles:20271126T123000
DTSTAMP:20260425T165103
CREATED:20251015T191031Z
LAST-MODIFIED:20251015T191031Z
UID:10000559-1827230400-1827232200@thegrotto.org
SUMMARY:Daily Mass
DESCRIPTION:Daily Mass is celebrated at 12 noon Monday – Saturday in the Chapel of Mary. Daily recitation of the Rosary takes place everyday\, one half hour before each Mass. On Fridays\, we pray the Rosary of the Seven Sorrows of Mary (Servite Rosary).
URL:https://thegrotto.org/event/daily-mass/2027-11-26/
LOCATION:Chapel of Mary\, 8840 NE Skidmore St\, Portland\, OR\, 97220
CATEGORIES:Daily Mass
END:VEVENT
BEGIN:VEVENT
DTSTART;TZID=America/Los_Angeles:20271127T120000
DTEND;TZID=America/Los_Angeles:20271127T123000
DTSTAMP:20260425T165103
CREATED:20251015T192715Z
LAST-MODIFIED:20251015T192715Z
UID:10002240-1827316800-1827318600@thegrotto.org
SUMMARY:Saturday Mass
DESCRIPTION:Regular Saturday Mass takes place the 2nd\, 3rd\, 4th\, and any 5th Saturday of the month.
URL:https://thegrotto.org/event/saturday-mass-2/2027-11-27/
LOCATION:Chapel of Mary\, 8840 NE Skidmore St\, Portland\, OR\, 97220
CATEGORIES:Saturday Mass
END:VEVENT
BEGIN:VEVENT
DTSTART;TZID=America/Los_Angeles:20271127T140000
DTEND;TZID=America/Los_Angeles:20271127T150000
DTSTAMP:20260425T165103
CREATED:20251015T194312Z
LAST-MODIFIED:20251015T194312Z
UID:10002764-1827324000-1827327600@thegrotto.org
SUMMARY:Spanish Mass
DESCRIPTION:Spanish Mass is celebrated on the second and fourth Sunday of each month at 2 p.m. in the Chapel of Mary.
URL:https://thegrotto.org/event/spanish-mass-2/2027-11-27/
LOCATION:Chapel of Mary\, 8840 NE Skidmore St\, Portland\, OR\, 97220
CATEGORIES:Spanish Mass,Sunday Mass
END:VEVENT
BEGIN:VEVENT
DTSTART;TZID=America/Los_Angeles:20271128T080000
DTEND;TZID=America/Los_Angeles:20271128T090000
DTSTAMP:20260425T165103
CREATED:20251015T191455Z
LAST-MODIFIED:20251015T191650Z
UID:10001422-1827388800-1827392400@thegrotto.org
SUMMARY:Sunday Mass (8am)
DESCRIPTION:Sunday Mass is celebrated at 8 a.m.\, 10 a.m.\, and 12 noon in the Chapel of Mary.
URL:https://thegrotto.org/event/sunday-mass-8am/2027-11-28/
LOCATION:Chapel of Mary\, 8840 NE Skidmore St\, Portland\, OR\, 97220
CATEGORIES:Sunday Mass
END:VEVENT
BEGIN:VEVENT
DTSTART;TZID=America/Los_Angeles:20271128T100000
DTEND;TZID=America/Los_Angeles:20271128T110000
DTSTAMP:20260425T165103
CREATED:20251015T191543Z
LAST-MODIFIED:20251015T191636Z
UID:10001683-1827396000-1827399600@thegrotto.org
SUMMARY:Sunday Mass (10am)
DESCRIPTION:Sunday Mass is celebrated at 8 a.m.\, 10 a.m.\, and 12 noon in the Chapel of Mary.
URL:https://thegrotto.org/event/sunday-mass-10am/2027-11-28/
LOCATION:Chapel of Mary\, 8840 NE Skidmore St\, Portland\, OR\, 97220
CATEGORIES:Sunday Mass
END:VEVENT
BEGIN:VEVENT
DTSTART;TZID=America/Los_Angeles:20271128T120000
DTEND;TZID=America/Los_Angeles:20271128T130000
DTSTAMP:20260425T165103
CREATED:20251015T191731Z
LAST-MODIFIED:20251015T191731Z
UID:10001944-1827403200-1827406800@thegrotto.org
SUMMARY:Sunday Mass (12 noon)
DESCRIPTION:Sunday Mass is celebrated at 8 a.m.\, 10 a.m.\, and 12 noon in the Chapel of Mary.
URL:https://thegrotto.org/event/sunday-mass-12-noon/2027-11-28/
LOCATION:Chapel of Mary\, 8840 NE Skidmore St\, Portland\, OR\, 97220
CATEGORIES:Sunday Mass
END:VEVENT
BEGIN:VEVENT
DTSTART;TZID=America/Los_Angeles:20271129T120000
DTEND;TZID=America/Los_Angeles:20271129T123000
DTSTAMP:20260425T165103
CREATED:20251015T191031Z
LAST-MODIFIED:20251015T191031Z
UID:10000560-1827489600-1827491400@thegrotto.org
SUMMARY:Daily Mass
DESCRIPTION:Daily Mass is celebrated at 12 noon Monday – Saturday in the Chapel of Mary. Daily recitation of the Rosary takes place everyday\, one half hour before each Mass. On Fridays\, we pray the Rosary of the Seven Sorrows of Mary (Servite Rosary).
URL:https://thegrotto.org/event/daily-mass/2027-11-29/
LOCATION:Chapel of Mary\, 8840 NE Skidmore St\, Portland\, OR\, 97220
CATEGORIES:Daily Mass
END:VEVENT
BEGIN:VEVENT
DTSTART;TZID=America/Los_Angeles:20271130T120000
DTEND;TZID=America/Los_Angeles:20271130T123000
DTSTAMP:20260425T165103
CREATED:20251015T191031Z
LAST-MODIFIED:20251015T191031Z
UID:10000561-1827576000-1827577800@thegrotto.org
SUMMARY:Daily Mass
DESCRIPTION:Daily Mass is celebrated at 12 noon Monday – Saturday in the Chapel of Mary. Daily recitation of the Rosary takes place everyday\, one half hour before each Mass. On Fridays\, we pray the Rosary of the Seven Sorrows of Mary (Servite Rosary).
URL:https://thegrotto.org/event/daily-mass/2027-11-30/
LOCATION:Chapel of Mary\, 8840 NE Skidmore St\, Portland\, OR\, 97220
CATEGORIES:Daily Mass
END:VEVENT
BEGIN:VEVENT
DTSTART;TZID=America/Los_Angeles:20271201T120000
DTEND;TZID=America/Los_Angeles:20271201T123000
DTSTAMP:20260425T165103
CREATED:20251015T191031Z
LAST-MODIFIED:20251015T191031Z
UID:10000562-1827662400-1827664200@thegrotto.org
SUMMARY:Daily Mass
DESCRIPTION:Daily Mass is celebrated at 12 noon Monday – Saturday in the Chapel of Mary. Daily recitation of the Rosary takes place everyday\, one half hour before each Mass. On Fridays\, we pray the Rosary of the Seven Sorrows of Mary (Servite Rosary).
URL:https://thegrotto.org/event/daily-mass/2027-12-01/
LOCATION:Chapel of Mary\, 8840 NE Skidmore St\, Portland\, OR\, 97220
CATEGORIES:Daily Mass
END:VEVENT
BEGIN:VEVENT
DTSTART;TZID=America/Los_Angeles:20271202T120000
DTEND;TZID=America/Los_Angeles:20271202T123000
DTSTAMP:20260425T165103
CREATED:20251015T191031Z
LAST-MODIFIED:20251015T191031Z
UID:10000563-1827748800-1827750600@thegrotto.org
SUMMARY:Daily Mass
DESCRIPTION:Daily Mass is celebrated at 12 noon Monday – Saturday in the Chapel of Mary. Daily recitation of the Rosary takes place everyday\, one half hour before each Mass. On Fridays\, we pray the Rosary of the Seven Sorrows of Mary (Servite Rosary).
URL:https://thegrotto.org/event/daily-mass/2027-12-02/
LOCATION:Chapel of Mary\, 8840 NE Skidmore St\, Portland\, OR\, 97220
CATEGORIES:Daily Mass
END:VEVENT
BEGIN:VEVENT
DTSTART;TZID=America/Los_Angeles:20271203T120000
DTEND;TZID=America/Los_Angeles:20271203T123000
DTSTAMP:20260425T165103
CREATED:20251015T191031Z
LAST-MODIFIED:20251015T191031Z
UID:10000564-1827835200-1827837000@thegrotto.org
SUMMARY:Daily Mass
DESCRIPTION:Daily Mass is celebrated at 12 noon Monday – Saturday in the Chapel of Mary. Daily recitation of the Rosary takes place everyday\, one half hour before each Mass. On Fridays\, we pray the Rosary of the Seven Sorrows of Mary (Servite Rosary).
URL:https://thegrotto.org/event/daily-mass/2027-12-03/
LOCATION:Chapel of Mary\, 8840 NE Skidmore St\, Portland\, OR\, 97220
CATEGORIES:Daily Mass
END:VEVENT
END:VCALENDAR