BEGIN:VCALENDAR
VERSION:2.0
PRODID:-//The National Sanctuary of Our Sorrowful Mother, The Grotto - ECPv6.15.17.1//NONSGML v1.0//EN
CALSCALE:GREGORIAN
METHOD:PUBLISH
X-WR-CALNAME:The National Sanctuary of Our Sorrowful Mother, The Grotto
X-ORIGINAL-URL:https://thegrotto.org
X-WR-CALDESC:Events for The National Sanctuary of Our Sorrowful Mother, The Grotto
REFRESH-INTERVAL;VALUE=DURATION:PT1H
X-Robots-Tag:noindex
X-PUBLISHED-TTL:PT1H
BEGIN:VTIMEZONE
TZID:America/Los_Angeles
BEGIN:DAYLIGHT
TZOFFSETFROM:-0800
TZOFFSETTO:-0700
TZNAME:PDT
DTSTART:20290311T100000
END:DAYLIGHT
BEGIN:STANDARD
TZOFFSETFROM:-0700
TZOFFSETTO:-0800
TZNAME:PST
DTSTART:20291104T090000
END:STANDARD
BEGIN:DAYLIGHT
TZOFFSETFROM:-0800
TZOFFSETTO:-0700
TZNAME:PDT
DTSTART:20300310T100000
END:DAYLIGHT
BEGIN:STANDARD
TZOFFSETFROM:-0700
TZOFFSETTO:-0800
TZNAME:PST
DTSTART:20301103T090000
END:STANDARD
BEGIN:DAYLIGHT
TZOFFSETFROM:-0800
TZOFFSETTO:-0700
TZNAME:PDT
DTSTART:20310309T100000
END:DAYLIGHT
BEGIN:STANDARD
TZOFFSETFROM:-0700
TZOFFSETTO:-0800
TZNAME:PST
DTSTART:20311102T090000
END:STANDARD
END:VTIMEZONE
BEGIN:VEVENT
DTSTART;TZID=America/Los_Angeles:20300818T120000
DTEND;TZID=America/Los_Angeles:20300818T130000
DTSTAMP:20260420T074834
CREATED:20251015T191731Z
LAST-MODIFIED:20251015T191731Z
UID:10002086-1913284800-1913288400@thegrotto.org
SUMMARY:Sunday Mass (12 noon)
DESCRIPTION:Sunday Mass is celebrated at 8 a.m.\, 10 a.m.\, and 12 noon in the Chapel of Mary.
URL:https://thegrotto.org/event/sunday-mass-12-noon/2030-08-18/
LOCATION:Chapel of Mary\, 8840 NE Skidmore St\, Portland\, OR\, 97220
CATEGORIES:Sunday Mass
END:VEVENT
BEGIN:VEVENT
DTSTART;TZID=America/Los_Angeles:20300818T100000
DTEND;TZID=America/Los_Angeles:20300818T110000
DTSTAMP:20260420T074834
CREATED:20251015T191543Z
LAST-MODIFIED:20251015T191636Z
UID:10001825-1913277600-1913281200@thegrotto.org
SUMMARY:Sunday Mass (10am)
DESCRIPTION:Sunday Mass is celebrated at 8 a.m.\, 10 a.m.\, and 12 noon in the Chapel of Mary.
URL:https://thegrotto.org/event/sunday-mass-10am/2030-08-18/
LOCATION:Chapel of Mary\, 8840 NE Skidmore St\, Portland\, OR\, 97220
CATEGORIES:Sunday Mass
END:VEVENT
BEGIN:VEVENT
DTSTART;TZID=America/Los_Angeles:20300818T080000
DTEND;TZID=America/Los_Angeles:20300818T090000
DTSTAMP:20260420T074834
CREATED:20251015T191455Z
LAST-MODIFIED:20251015T191650Z
UID:10001564-1913270400-1913274000@thegrotto.org
SUMMARY:Sunday Mass (8am)
DESCRIPTION:Sunday Mass is celebrated at 8 a.m.\, 10 a.m.\, and 12 noon in the Chapel of Mary.
URL:https://thegrotto.org/event/sunday-mass-8am/2030-08-18/
LOCATION:Chapel of Mary\, 8840 NE Skidmore St\, Portland\, OR\, 97220
CATEGORIES:Sunday Mass
END:VEVENT
BEGIN:VEVENT
DTSTART;TZID=America/Los_Angeles:20300817T120000
DTEND;TZID=America/Los_Angeles:20300817T123000
DTSTAMP:20260420T074834
CREATED:20251015T192636Z
LAST-MODIFIED:20251015T192743Z
UID:10002153-1913198400-1913200200@thegrotto.org
SUMMARY:Saturday Mass
DESCRIPTION:Regular Saturday Mass takes place the 2nd\, 3rd\, 4th\, and any 5th Saturday of the month.
URL:https://thegrotto.org/event/saturday-mass/2030-08-17/
LOCATION:Chapel of Mary\, 8840 NE Skidmore St\, Portland\, OR\, 97220
CATEGORIES:Saturday Mass
END:VEVENT
BEGIN:VEVENT
DTSTART;TZID=America/Los_Angeles:20300816T120000
DTEND;TZID=America/Los_Angeles:20300816T123000
DTSTAMP:20260420T074834
CREATED:20251015T191031Z
LAST-MODIFIED:20251015T191031Z
UID:10001269-1913112000-1913113800@thegrotto.org
SUMMARY:Daily Mass
DESCRIPTION:Daily Mass is celebrated at 12 noon Monday – Saturday in the Chapel of Mary. Daily recitation of the Rosary takes place everyday\, one half hour before each Mass. On Fridays\, we pray the Rosary of the Seven Sorrows of Mary (Servite Rosary).
URL:https://thegrotto.org/event/daily-mass/2030-08-16/
LOCATION:Chapel of Mary\, 8840 NE Skidmore St\, Portland\, OR\, 97220
CATEGORIES:Daily Mass
END:VEVENT
BEGIN:VEVENT
DTSTART;TZID=America/Los_Angeles:20300815T120000
DTEND;TZID=America/Los_Angeles:20300815T123000
DTSTAMP:20260420T074834
CREATED:20251015T191031Z
LAST-MODIFIED:20251015T191031Z
UID:10001268-1913025600-1913027400@thegrotto.org
SUMMARY:Daily Mass
DESCRIPTION:Daily Mass is celebrated at 12 noon Monday – Saturday in the Chapel of Mary. Daily recitation of the Rosary takes place everyday\, one half hour before each Mass. On Fridays\, we pray the Rosary of the Seven Sorrows of Mary (Servite Rosary).
URL:https://thegrotto.org/event/daily-mass/2030-08-15/
LOCATION:Chapel of Mary\, 8840 NE Skidmore St\, Portland\, OR\, 97220
CATEGORIES:Daily Mass
END:VEVENT
BEGIN:VEVENT
DTSTART;TZID=America/Los_Angeles:20300814T120000
DTEND;TZID=America/Los_Angeles:20300814T123000
DTSTAMP:20260420T074834
CREATED:20251015T191031Z
LAST-MODIFIED:20251015T191031Z
UID:10001267-1912939200-1912941000@thegrotto.org
SUMMARY:Daily Mass
DESCRIPTION:Daily Mass is celebrated at 12 noon Monday – Saturday in the Chapel of Mary. Daily recitation of the Rosary takes place everyday\, one half hour before each Mass. On Fridays\, we pray the Rosary of the Seven Sorrows of Mary (Servite Rosary).
URL:https://thegrotto.org/event/daily-mass/2030-08-14/
LOCATION:Chapel of Mary\, 8840 NE Skidmore St\, Portland\, OR\, 97220
CATEGORIES:Daily Mass
END:VEVENT
BEGIN:VEVENT
DTSTART;TZID=America/Los_Angeles:20300813T120000
DTEND;TZID=America/Los_Angeles:20300813T123000
DTSTAMP:20260420T074834
CREATED:20251015T191031Z
LAST-MODIFIED:20251015T191031Z
UID:10001266-1912852800-1912854600@thegrotto.org
SUMMARY:Daily Mass
DESCRIPTION:Daily Mass is celebrated at 12 noon Monday – Saturday in the Chapel of Mary. Daily recitation of the Rosary takes place everyday\, one half hour before each Mass. On Fridays\, we pray the Rosary of the Seven Sorrows of Mary (Servite Rosary).
URL:https://thegrotto.org/event/daily-mass/2030-08-13/
LOCATION:Chapel of Mary\, 8840 NE Skidmore St\, Portland\, OR\, 97220
CATEGORIES:Daily Mass
END:VEVENT
BEGIN:VEVENT
DTSTART;TZID=America/Los_Angeles:20300812T120000
DTEND;TZID=America/Los_Angeles:20300812T123000
DTSTAMP:20260420T074834
CREATED:20251015T191031Z
LAST-MODIFIED:20251015T191031Z
UID:10001265-1912766400-1912768200@thegrotto.org
SUMMARY:Daily Mass
DESCRIPTION:Daily Mass is celebrated at 12 noon Monday – Saturday in the Chapel of Mary. Daily recitation of the Rosary takes place everyday\, one half hour before each Mass. On Fridays\, we pray the Rosary of the Seven Sorrows of Mary (Servite Rosary).
URL:https://thegrotto.org/event/daily-mass/2030-08-12/
LOCATION:Chapel of Mary\, 8840 NE Skidmore St\, Portland\, OR\, 97220
CATEGORIES:Daily Mass
END:VEVENT
BEGIN:VEVENT
DTSTART;TZID=America/Los_Angeles:20300811T120000
DTEND;TZID=America/Los_Angeles:20300811T130000
DTSTAMP:20260420T074834
CREATED:20251015T191731Z
LAST-MODIFIED:20251015T191731Z
UID:10002085-1912680000-1912683600@thegrotto.org
SUMMARY:Sunday Mass (12 noon)
DESCRIPTION:Sunday Mass is celebrated at 8 a.m.\, 10 a.m.\, and 12 noon in the Chapel of Mary.
URL:https://thegrotto.org/event/sunday-mass-12-noon/2030-08-11/
LOCATION:Chapel of Mary\, 8840 NE Skidmore St\, Portland\, OR\, 97220
CATEGORIES:Sunday Mass
END:VEVENT
BEGIN:VEVENT
DTSTART;TZID=America/Los_Angeles:20300811T100000
DTEND;TZID=America/Los_Angeles:20300811T110000
DTSTAMP:20260420T074834
CREATED:20251015T191543Z
LAST-MODIFIED:20251015T191636Z
UID:10001824-1912672800-1912676400@thegrotto.org
SUMMARY:Sunday Mass (10am)
DESCRIPTION:Sunday Mass is celebrated at 8 a.m.\, 10 a.m.\, and 12 noon in the Chapel of Mary.
URL:https://thegrotto.org/event/sunday-mass-10am/2030-08-11/
LOCATION:Chapel of Mary\, 8840 NE Skidmore St\, Portland\, OR\, 97220
CATEGORIES:Sunday Mass
END:VEVENT
BEGIN:VEVENT
DTSTART;TZID=America/Los_Angeles:20300811T080000
DTEND;TZID=America/Los_Angeles:20300811T090000
DTSTAMP:20260420T074834
CREATED:20251015T191455Z
LAST-MODIFIED:20251015T191650Z
UID:10001563-1912665600-1912669200@thegrotto.org
SUMMARY:Sunday Mass (8am)
DESCRIPTION:Sunday Mass is celebrated at 8 a.m.\, 10 a.m.\, and 12 noon in the Chapel of Mary.
URL:https://thegrotto.org/event/sunday-mass-8am/2030-08-11/
LOCATION:Chapel of Mary\, 8840 NE Skidmore St\, Portland\, OR\, 97220
CATEGORIES:Sunday Mass
END:VEVENT
BEGIN:VEVENT
DTSTART;TZID=America/Los_Angeles:20300809T120000
DTEND;TZID=America/Los_Angeles:20300809T123000
DTSTAMP:20260420T074834
CREATED:20251015T191031Z
LAST-MODIFIED:20251015T191031Z
UID:10001264-1912507200-1912509000@thegrotto.org
SUMMARY:Daily Mass
DESCRIPTION:Daily Mass is celebrated at 12 noon Monday – Saturday in the Chapel of Mary. Daily recitation of the Rosary takes place everyday\, one half hour before each Mass. On Fridays\, we pray the Rosary of the Seven Sorrows of Mary (Servite Rosary).
URL:https://thegrotto.org/event/daily-mass/2030-08-09/
LOCATION:Chapel of Mary\, 8840 NE Skidmore St\, Portland\, OR\, 97220
CATEGORIES:Daily Mass
END:VEVENT
BEGIN:VEVENT
DTSTART;TZID=America/Los_Angeles:20300808T120000
DTEND;TZID=America/Los_Angeles:20300808T123000
DTSTAMP:20260420T074834
CREATED:20251015T191031Z
LAST-MODIFIED:20251015T191031Z
UID:10001263-1912420800-1912422600@thegrotto.org
SUMMARY:Daily Mass
DESCRIPTION:Daily Mass is celebrated at 12 noon Monday – Saturday in the Chapel of Mary. Daily recitation of the Rosary takes place everyday\, one half hour before each Mass. On Fridays\, we pray the Rosary of the Seven Sorrows of Mary (Servite Rosary).
URL:https://thegrotto.org/event/daily-mass/2030-08-08/
LOCATION:Chapel of Mary\, 8840 NE Skidmore St\, Portland\, OR\, 97220
CATEGORIES:Daily Mass
END:VEVENT
BEGIN:VEVENT
DTSTART;TZID=America/Los_Angeles:20300807T120000
DTEND;TZID=America/Los_Angeles:20300807T123000
DTSTAMP:20260420T074834
CREATED:20251015T191031Z
LAST-MODIFIED:20251015T191031Z
UID:10001262-1912334400-1912336200@thegrotto.org
SUMMARY:Daily Mass
DESCRIPTION:Daily Mass is celebrated at 12 noon Monday – Saturday in the Chapel of Mary. Daily recitation of the Rosary takes place everyday\, one half hour before each Mass. On Fridays\, we pray the Rosary of the Seven Sorrows of Mary (Servite Rosary).
URL:https://thegrotto.org/event/daily-mass/2030-08-07/
LOCATION:Chapel of Mary\, 8840 NE Skidmore St\, Portland\, OR\, 97220
CATEGORIES:Daily Mass
END:VEVENT
BEGIN:VEVENT
DTSTART;TZID=America/Los_Angeles:20300806T120000
DTEND;TZID=America/Los_Angeles:20300806T123000
DTSTAMP:20260420T074834
CREATED:20251015T191031Z
LAST-MODIFIED:20251015T191031Z
UID:10001261-1912248000-1912249800@thegrotto.org
SUMMARY:Daily Mass
DESCRIPTION:Daily Mass is celebrated at 12 noon Monday – Saturday in the Chapel of Mary. Daily recitation of the Rosary takes place everyday\, one half hour before each Mass. On Fridays\, we pray the Rosary of the Seven Sorrows of Mary (Servite Rosary).
URL:https://thegrotto.org/event/daily-mass/2030-08-06/
LOCATION:Chapel of Mary\, 8840 NE Skidmore St\, Portland\, OR\, 97220
CATEGORIES:Daily Mass
END:VEVENT
BEGIN:VEVENT
DTSTART;TZID=America/Los_Angeles:20300805T120000
DTEND;TZID=America/Los_Angeles:20300805T123000
DTSTAMP:20260420T074834
CREATED:20251015T191031Z
LAST-MODIFIED:20251015T191031Z
UID:10001260-1912161600-1912163400@thegrotto.org
SUMMARY:Daily Mass
DESCRIPTION:Daily Mass is celebrated at 12 noon Monday – Saturday in the Chapel of Mary. Daily recitation of the Rosary takes place everyday\, one half hour before each Mass. On Fridays\, we pray the Rosary of the Seven Sorrows of Mary (Servite Rosary).
URL:https://thegrotto.org/event/daily-mass/2030-08-05/
LOCATION:Chapel of Mary\, 8840 NE Skidmore St\, Portland\, OR\, 97220
CATEGORIES:Daily Mass
END:VEVENT
BEGIN:VEVENT
DTSTART;TZID=America/Los_Angeles:20300804T140000
DTEND;TZID=America/Los_Angeles:20300804T150000
DTSTAMP:20260420T074834
CREATED:20251015T193802Z
LAST-MODIFIED:20251015T193802Z
UID:10002593-1912082400-1912086000@thegrotto.org
SUMMARY:Filipino Mass
DESCRIPTION:This Mass is celebrated on the first and third Sunday of each month at 2 p.m. in the Chapel of Mary.
URL:https://thegrotto.org/event/filipino-mass-2/2030-08-04/
LOCATION:Chapel of Mary\, 8840 NE Skidmore St\, Portland\, OR\, 97220
CATEGORIES:Filipino Mass,Sunday Mass
END:VEVENT
BEGIN:VEVENT
DTSTART;TZID=America/Los_Angeles:20300804T120000
DTEND;TZID=America/Los_Angeles:20300804T130000
DTSTAMP:20260420T074834
CREATED:20251015T191731Z
LAST-MODIFIED:20251015T191731Z
UID:10002084-1912075200-1912078800@thegrotto.org
SUMMARY:Sunday Mass (12 noon)
DESCRIPTION:Sunday Mass is celebrated at 8 a.m.\, 10 a.m.\, and 12 noon in the Chapel of Mary.
URL:https://thegrotto.org/event/sunday-mass-12-noon/2030-08-04/
LOCATION:Chapel of Mary\, 8840 NE Skidmore St\, Portland\, OR\, 97220
CATEGORIES:Sunday Mass
END:VEVENT
BEGIN:VEVENT
DTSTART;TZID=America/Los_Angeles:20300804T100000
DTEND;TZID=America/Los_Angeles:20300804T110000
DTSTAMP:20260420T074834
CREATED:20251015T191543Z
LAST-MODIFIED:20251015T191636Z
UID:10001823-1912068000-1912071600@thegrotto.org
SUMMARY:Sunday Mass (10am)
DESCRIPTION:Sunday Mass is celebrated at 8 a.m.\, 10 a.m.\, and 12 noon in the Chapel of Mary.
URL:https://thegrotto.org/event/sunday-mass-10am/2030-08-04/
LOCATION:Chapel of Mary\, 8840 NE Skidmore St\, Portland\, OR\, 97220
CATEGORIES:Sunday Mass
END:VEVENT
BEGIN:VEVENT
DTSTART;TZID=America/Los_Angeles:20300804T080000
DTEND;TZID=America/Los_Angeles:20300804T090000
DTSTAMP:20260420T074834
CREATED:20251015T191455Z
LAST-MODIFIED:20251015T191650Z
UID:10001562-1912060800-1912064400@thegrotto.org
SUMMARY:Sunday Mass (8am)
DESCRIPTION:Sunday Mass is celebrated at 8 a.m.\, 10 a.m.\, and 12 noon in the Chapel of Mary.
URL:https://thegrotto.org/event/sunday-mass-8am/2030-08-04/
LOCATION:Chapel of Mary\, 8840 NE Skidmore St\, Portland\, OR\, 97220
CATEGORIES:Sunday Mass
END:VEVENT
BEGIN:VEVENT
DTSTART;TZID=America/Los_Angeles:20300803T120000
DTEND;TZID=America/Los_Angeles:20300803T130000
DTSTAMP:20260420T074834
CREATED:20251015T193550Z
LAST-MODIFIED:20251015T193550Z
UID:10002413-1911988800-1911992400@thegrotto.org
SUMMARY:St. Peregrine Mass
DESCRIPTION:This monthly Mass is celebrated on the first Saturday of each month at 12 noon in the Chapel of Mary. In the summer months\, it is celebrated outdoors in the plaza\, weather permitting. At this Mass\, a blessing with the relic of St. Peregrine is offered to those who wish.
URL:https://thegrotto.org/event/st-peregrine-mass/2030-08-03/
LOCATION:The Plaza\, 8840 NE Skidmore St\, Portland\, OR\, 97220\, United States
CATEGORIES:Saturday Mass,St. Peregrine Mass
END:VEVENT
BEGIN:VEVENT
DTSTART;TZID=America/Los_Angeles:20300802T120000
DTEND;TZID=America/Los_Angeles:20300802T123000
DTSTAMP:20260420T074834
CREATED:20251015T191031Z
LAST-MODIFIED:20251015T191031Z
UID:10001259-1911902400-1911904200@thegrotto.org
SUMMARY:Daily Mass
DESCRIPTION:Daily Mass is celebrated at 12 noon Monday – Saturday in the Chapel of Mary. Daily recitation of the Rosary takes place everyday\, one half hour before each Mass. On Fridays\, we pray the Rosary of the Seven Sorrows of Mary (Servite Rosary).
URL:https://thegrotto.org/event/daily-mass/2030-08-02/
LOCATION:Chapel of Mary\, 8840 NE Skidmore St\, Portland\, OR\, 97220
CATEGORIES:Daily Mass
END:VEVENT
BEGIN:VEVENT
DTSTART;TZID=America/Los_Angeles:20300801T120000
DTEND;TZID=America/Los_Angeles:20300801T123000
DTSTAMP:20260420T074834
CREATED:20251015T191031Z
LAST-MODIFIED:20251015T191031Z
UID:10001258-1911816000-1911817800@thegrotto.org
SUMMARY:Daily Mass
DESCRIPTION:Daily Mass is celebrated at 12 noon Monday – Saturday in the Chapel of Mary. Daily recitation of the Rosary takes place everyday\, one half hour before each Mass. On Fridays\, we pray the Rosary of the Seven Sorrows of Mary (Servite Rosary).
URL:https://thegrotto.org/event/daily-mass/2030-08-01/
LOCATION:Chapel of Mary\, 8840 NE Skidmore St\, Portland\, OR\, 97220
CATEGORIES:Daily Mass
END:VEVENT
BEGIN:VEVENT
DTSTART;TZID=America/Los_Angeles:20300731T120000
DTEND;TZID=America/Los_Angeles:20300731T123000
DTSTAMP:20260420T074834
CREATED:20251015T191031Z
LAST-MODIFIED:20251015T191031Z
UID:10001257-1911729600-1911731400@thegrotto.org
SUMMARY:Daily Mass
DESCRIPTION:Daily Mass is celebrated at 12 noon Monday – Saturday in the Chapel of Mary. Daily recitation of the Rosary takes place everyday\, one half hour before each Mass. On Fridays\, we pray the Rosary of the Seven Sorrows of Mary (Servite Rosary).
URL:https://thegrotto.org/event/daily-mass/2030-07-31/
LOCATION:Chapel of Mary\, 8840 NE Skidmore St\, Portland\, OR\, 97220
CATEGORIES:Daily Mass
END:VEVENT
BEGIN:VEVENT
DTSTART;TZID=America/Los_Angeles:20300730T120000
DTEND;TZID=America/Los_Angeles:20300730T123000
DTSTAMP:20260420T074834
CREATED:20251015T191031Z
LAST-MODIFIED:20251015T191031Z
UID:10001256-1911643200-1911645000@thegrotto.org
SUMMARY:Daily Mass
DESCRIPTION:Daily Mass is celebrated at 12 noon Monday – Saturday in the Chapel of Mary. Daily recitation of the Rosary takes place everyday\, one half hour before each Mass. On Fridays\, we pray the Rosary of the Seven Sorrows of Mary (Servite Rosary).
URL:https://thegrotto.org/event/daily-mass/2030-07-30/
LOCATION:Chapel of Mary\, 8840 NE Skidmore St\, Portland\, OR\, 97220
CATEGORIES:Daily Mass
END:VEVENT
BEGIN:VEVENT
DTSTART;TZID=America/Los_Angeles:20300729T120000
DTEND;TZID=America/Los_Angeles:20300729T123000
DTSTAMP:20260420T074834
CREATED:20251015T191031Z
LAST-MODIFIED:20251015T191031Z
UID:10001255-1911556800-1911558600@thegrotto.org
SUMMARY:Daily Mass
DESCRIPTION:Daily Mass is celebrated at 12 noon Monday – Saturday in the Chapel of Mary. Daily recitation of the Rosary takes place everyday\, one half hour before each Mass. On Fridays\, we pray the Rosary of the Seven Sorrows of Mary (Servite Rosary).
URL:https://thegrotto.org/event/daily-mass/2030-07-29/
LOCATION:Chapel of Mary\, 8840 NE Skidmore St\, Portland\, OR\, 97220
CATEGORIES:Daily Mass
END:VEVENT
BEGIN:VEVENT
DTSTART;TZID=America/Los_Angeles:20300728T120000
DTEND;TZID=America/Los_Angeles:20300728T130000
DTSTAMP:20260420T074834
CREATED:20251015T191731Z
LAST-MODIFIED:20251015T191731Z
UID:10002083-1911470400-1911474000@thegrotto.org
SUMMARY:Sunday Mass (12 noon)
DESCRIPTION:Sunday Mass is celebrated at 8 a.m.\, 10 a.m.\, and 12 noon in the Chapel of Mary.
URL:https://thegrotto.org/event/sunday-mass-12-noon/2030-07-28/
LOCATION:Chapel of Mary\, 8840 NE Skidmore St\, Portland\, OR\, 97220
CATEGORIES:Sunday Mass
END:VEVENT
BEGIN:VEVENT
DTSTART;TZID=America/Los_Angeles:20300728T100000
DTEND;TZID=America/Los_Angeles:20300728T110000
DTSTAMP:20260420T074834
CREATED:20251015T191543Z
LAST-MODIFIED:20251015T191636Z
UID:10001822-1911463200-1911466800@thegrotto.org
SUMMARY:Sunday Mass (10am)
DESCRIPTION:Sunday Mass is celebrated at 8 a.m.\, 10 a.m.\, and 12 noon in the Chapel of Mary.
URL:https://thegrotto.org/event/sunday-mass-10am/2030-07-28/
LOCATION:Chapel of Mary\, 8840 NE Skidmore St\, Portland\, OR\, 97220
CATEGORIES:Sunday Mass
END:VEVENT
BEGIN:VEVENT
DTSTART;TZID=America/Los_Angeles:20300728T080000
DTEND;TZID=America/Los_Angeles:20300728T090000
DTSTAMP:20260420T074834
CREATED:20251015T191455Z
LAST-MODIFIED:20251015T191650Z
UID:10001561-1911456000-1911459600@thegrotto.org
SUMMARY:Sunday Mass (8am)
DESCRIPTION:Sunday Mass is celebrated at 8 a.m.\, 10 a.m.\, and 12 noon in the Chapel of Mary.
URL:https://thegrotto.org/event/sunday-mass-8am/2030-07-28/
LOCATION:Chapel of Mary\, 8840 NE Skidmore St\, Portland\, OR\, 97220
CATEGORIES:Sunday Mass
END:VEVENT
END:VCALENDAR